BEGIN:VCALENDAR
VERSION:2.0
PRODID:-//New Biology Clinic - ECPv6.15.20//NONSGML v1.0//EN
CALSCALE:GREGORIAN
METHOD:PUBLISH
X-WR-CALNAME:New Biology Clinic
X-ORIGINAL-URL:https://newbiologyclinic.com
X-WR-CALDESC:Events for New Biology Clinic
REFRESH-INTERVAL;VALUE=DURATION:PT1H
X-Robots-Tag:noindex
X-PUBLISHED-TTL:PT1H
BEGIN:VTIMEZONE
TZID:America/Toronto
BEGIN:DAYLIGHT
TZOFFSETFROM:-0500
TZOFFSETTO:-0400
TZNAME:EDT
DTSTART:20240310T070000
END:DAYLIGHT
BEGIN:STANDARD
TZOFFSETFROM:-0400
TZOFFSETTO:-0500
TZNAME:EST
DTSTART:20241103T060000
END:STANDARD
BEGIN:DAYLIGHT
TZOFFSETFROM:-0500
TZOFFSETTO:-0400
TZNAME:EDT
DTSTART:20250309T070000
END:DAYLIGHT
BEGIN:STANDARD
TZOFFSETFROM:-0400
TZOFFSETTO:-0500
TZNAME:EST
DTSTART:20251102T060000
END:STANDARD
BEGIN:DAYLIGHT
TZOFFSETFROM:-0500
TZOFFSETTO:-0400
TZNAME:EDT
DTSTART:20260308T070000
END:DAYLIGHT
BEGIN:STANDARD
TZOFFSETFROM:-0400
TZOFFSETTO:-0500
TZNAME:EST
DTSTART:20261101T060000
END:STANDARD
END:VTIMEZONE
BEGIN:VEVENT
DTSTART;TZID=America/Toronto:20251004T120000
DTEND;TZID=America/Toronto:20251004T130000
DTSTAMP:20260425T222725
CREATED:20250826T180559Z
LAST-MODIFIED:20251007T140118Z
UID:10000328-1759579200-1759582800@newbiologyclinic.com
SUMMARY:Roundtable Discussion with Tom & our Wellness Specialists: Prostate Health
DESCRIPTION:New Biology Clinic Roundtable Discussion with Dr. Tom Cowan & our New Biology Clinic Wellness Specialists \nTopic: Prostate Health \nSaturday\, September 20th at noon Eastern \nLength: 1 Hour \n-Please note session times are reflected in the eastern time zone. \n  \nPlease register in advance via the link provided in your chat found under news & announcements. Please send a chat to a member of the care team if you cannot locate your link.
URL:https://newbiologyclinic.com/events/roundtable-discussion-with-tom-our-wellness-specialists-prostate-health/
LOCATION:Zoom (link in dashboard)
END:VEVENT
END:VCALENDAR