BEGIN:VCALENDAR
VERSION:2.0
PRODID:-//New Biology Clinic - ECPv6.15.20//NONSGML v1.0//EN
CALSCALE:GREGORIAN
METHOD:PUBLISH
X-WR-CALNAME:New Biology Clinic
X-ORIGINAL-URL:https://newbiologyclinic.com
X-WR-CALDESC:Events for New Biology Clinic
REFRESH-INTERVAL;VALUE=DURATION:PT1H
X-Robots-Tag:noindex
X-PUBLISHED-TTL:PT1H
BEGIN:VTIMEZONE
TZID:America/Toronto
BEGIN:DAYLIGHT
TZOFFSETFROM:-0500
TZOFFSETTO:-0400
TZNAME:EDT
DTSTART:20240310T070000
END:DAYLIGHT
BEGIN:STANDARD
TZOFFSETFROM:-0400
TZOFFSETTO:-0500
TZNAME:EST
DTSTART:20241103T060000
END:STANDARD
BEGIN:DAYLIGHT
TZOFFSETFROM:-0500
TZOFFSETTO:-0400
TZNAME:EDT
DTSTART:20250309T070000
END:DAYLIGHT
BEGIN:STANDARD
TZOFFSETFROM:-0400
TZOFFSETTO:-0500
TZNAME:EST
DTSTART:20251102T060000
END:STANDARD
BEGIN:DAYLIGHT
TZOFFSETFROM:-0500
TZOFFSETTO:-0400
TZNAME:EDT
DTSTART:20260308T070000
END:DAYLIGHT
BEGIN:STANDARD
TZOFFSETFROM:-0400
TZOFFSETTO:-0500
TZNAME:EST
DTSTART:20261101T060000
END:STANDARD
END:VTIMEZONE
BEGIN:VEVENT
DTSTART;TZID=America/Toronto:20251114T130000
DTEND;TZID=America/Toronto:20251114T140000
DTSTAMP:20260425T193659
CREATED:20251028T223821Z
LAST-MODIFIED:20251028T223821Z
UID:10000393-1763125200-1763128800@newbiologyclinic.com
SUMMARY:Group Support Session with Dr. Pamela Shervanick
DESCRIPTION:Group Support session with Dr. Pamela Shervanick. This group meets confidentially bringing members together to discuss relevant topics in peoples lives with other like minded individuals.  It is an opportunity to come together and support one another with health\, social\, personal and lifestyle issues. \nTopic: TBD \nLength: 1 hour \n-Please note session times are reflected in the eastern time zone. \n  \n*To book your appointment for Pam’s group sessions\, ensure you choose “Enrichment Services” from the list of names and then choose “Group Support Session with Pam”.
URL:https://newbiologyclinic.com/events/group-support-session-with-dr-pamela-shervanick-33/
LOCATION:Zoom (link in dashboard)
END:VEVENT
BEGIN:VEVENT
DTSTART;TZID=America/Toronto:20251114T170000
DTEND;TZID=America/Toronto:20251114T180000
DTSTAMP:20260425T193659
CREATED:20251028T215938Z
LAST-MODIFIED:20251107T184639Z
UID:10000379-1763139600-1763143200@newbiologyclinic.com
SUMMARY:Problem Solving vs Healing with Pat Daly
DESCRIPTION:Problem Solving vs Healing with Pat Daly \nLength: 1 Hour \n-Please note session times are reflected in the Eastern time zone. \nPlease register in advance via the link provided in your chat found under news & announcements. Please send a chat to a member of the care team if you cannot locate your link.
URL:https://newbiologyclinic.com/events/problem-solving-vs-healing-with-pat-daly/
LOCATION:Zoom (link in dashboard)
END:VEVENT
END:VCALENDAR