BEGIN:VCALENDAR
VERSION:2.0
PRODID:-//New Biology Clinic - ECPv6.15.20//NONSGML v1.0//EN
CALSCALE:GREGORIAN
METHOD:PUBLISH
X-WR-CALNAME:New Biology Clinic
X-ORIGINAL-URL:https://newbiologyclinic.com
X-WR-CALDESC:Events for New Biology Clinic
REFRESH-INTERVAL;VALUE=DURATION:PT1H
X-Robots-Tag:noindex
X-PUBLISHED-TTL:PT1H
BEGIN:VTIMEZONE
TZID:America/Toronto
BEGIN:DAYLIGHT
TZOFFSETFROM:-0500
TZOFFSETTO:-0400
TZNAME:EDT
DTSTART:20240310T070000
END:DAYLIGHT
BEGIN:STANDARD
TZOFFSETFROM:-0400
TZOFFSETTO:-0500
TZNAME:EST
DTSTART:20241103T060000
END:STANDARD
BEGIN:DAYLIGHT
TZOFFSETFROM:-0500
TZOFFSETTO:-0400
TZNAME:EDT
DTSTART:20250309T070000
END:DAYLIGHT
BEGIN:STANDARD
TZOFFSETFROM:-0400
TZOFFSETTO:-0500
TZNAME:EST
DTSTART:20251102T060000
END:STANDARD
BEGIN:DAYLIGHT
TZOFFSETFROM:-0500
TZOFFSETTO:-0400
TZNAME:EDT
DTSTART:20260308T070000
END:DAYLIGHT
BEGIN:STANDARD
TZOFFSETFROM:-0400
TZOFFSETTO:-0500
TZNAME:EST
DTSTART:20261101T060000
END:STANDARD
END:VTIMEZONE
BEGIN:VEVENT
DTSTART;TZID=America/Toronto:20251117T163000
DTEND;TZID=America/Toronto:20251117T173000
DTSTAMP:20260425T192410
CREATED:20251028T221934Z
LAST-MODIFIED:20251028T221934Z
UID:10000388-1763397000-1763400600@newbiologyclinic.com
SUMMARY:Non-Traditional Cranberry Sauces for Thanksgiving and Any Day! with Monica Corrado
DESCRIPTION:Non-Traditional Cranberry Sauces for Thanksgiving and Any Day! \nSome of us may be tired of canned cranberry sauces – -whether they are berries or gelled! Organic or not\, they can be full of sugar and are not so fresh. Join Monica for this fun\, informative class\, and learn some delicious options for your dining table! \nLength: 1 hour \n-Please note session times are reflected in the Eastern time zone. \n  \nPlease register for this session through your member dashboard under appointments\, then select Monica Corrado.
URL:https://newbiologyclinic.com/events/non-traditional-cranberry-sauces-for-thanksgiving-and-any-day-with-monica-corrado/
LOCATION:Zoom (link in dashboard)
END:VEVENT
END:VCALENDAR