BEGIN:VCALENDAR
VERSION:2.0
PRODID:-//New Biology Clinic - ECPv6.15.20//NONSGML v1.0//EN
CALSCALE:GREGORIAN
METHOD:PUBLISH
X-ORIGINAL-URL:https://newbiologyclinic.com
X-WR-CALDESC:Events for New Biology Clinic
REFRESH-INTERVAL;VALUE=DURATION:PT1H
X-Robots-Tag:noindex
X-PUBLISHED-TTL:PT1H
BEGIN:VTIMEZONE
TZID:America/Toronto
BEGIN:DAYLIGHT
TZOFFSETFROM:-0500
TZOFFSETTO:-0400
TZNAME:EDT
DTSTART:20240310T070000
END:DAYLIGHT
BEGIN:STANDARD
TZOFFSETFROM:-0400
TZOFFSETTO:-0500
TZNAME:EST
DTSTART:20241103T060000
END:STANDARD
BEGIN:DAYLIGHT
TZOFFSETFROM:-0500
TZOFFSETTO:-0400
TZNAME:EDT
DTSTART:20250309T070000
END:DAYLIGHT
BEGIN:STANDARD
TZOFFSETFROM:-0400
TZOFFSETTO:-0500
TZNAME:EST
DTSTART:20251102T060000
END:STANDARD
BEGIN:DAYLIGHT
TZOFFSETFROM:-0500
TZOFFSETTO:-0400
TZNAME:EDT
DTSTART:20260308T070000
END:DAYLIGHT
BEGIN:STANDARD
TZOFFSETFROM:-0400
TZOFFSETTO:-0500
TZNAME:EST
DTSTART:20261101T060000
END:STANDARD
END:VTIMEZONE
BEGIN:VEVENT
DTSTART;TZID=America/Toronto:20251217T103000
DTEND;TZID=America/Toronto:20251217T113000
DTSTAMP:20260425T180243
CREATED:20251121T205854Z
LAST-MODIFIED:20251121T205854Z
UID:10000417-1765967400-1765971000@newbiologyclinic.com
SUMMARY:GAPS Q & A with Monica Corrado
DESCRIPTION:GAPS Q & A with Monica Corrado \nMonica’s mission is to help you to incorporate the GAPS diet into your life as simply and gracefully as possible.  Come get your questions answered and support each other during this beautiful healing process. \nLength: 1 hour \n-Please note session times are reflected in the Eastern time zone. \n  \nPlease register for this session through your member dashboard under appointments\, then select Monica Corrado.
URL:https://newbiologyclinic.com/events/gaps-q-a-with-monica-corrado-4/
LOCATION:Zoom (link in dashboard)
END:VEVENT
END:VCALENDAR