BEGIN:VCALENDAR
VERSION:2.0
PRODID:-//New Biology Clinic - ECPv6.15.20//NONSGML v1.0//EN
CALSCALE:GREGORIAN
METHOD:PUBLISH
X-WR-CALNAME:New Biology Clinic
X-ORIGINAL-URL:https://newbiologyclinic.com
X-WR-CALDESC:Events for New Biology Clinic
REFRESH-INTERVAL;VALUE=DURATION:PT1H
X-Robots-Tag:noindex
X-PUBLISHED-TTL:PT1H
BEGIN:VTIMEZONE
TZID:America/Toronto
BEGIN:DAYLIGHT
TZOFFSETFROM:-0500
TZOFFSETTO:-0400
TZNAME:EDT
DTSTART:20240310T070000
END:DAYLIGHT
BEGIN:STANDARD
TZOFFSETFROM:-0400
TZOFFSETTO:-0500
TZNAME:EST
DTSTART:20241103T060000
END:STANDARD
BEGIN:DAYLIGHT
TZOFFSETFROM:-0500
TZOFFSETTO:-0400
TZNAME:EDT
DTSTART:20250309T070000
END:DAYLIGHT
BEGIN:STANDARD
TZOFFSETFROM:-0400
TZOFFSETTO:-0500
TZNAME:EST
DTSTART:20251102T060000
END:STANDARD
BEGIN:DAYLIGHT
TZOFFSETFROM:-0500
TZOFFSETTO:-0400
TZNAME:EDT
DTSTART:20260308T070000
END:DAYLIGHT
BEGIN:STANDARD
TZOFFSETFROM:-0400
TZOFFSETTO:-0500
TZNAME:EST
DTSTART:20261101T060000
END:STANDARD
END:VTIMEZONE
BEGIN:VEVENT
DTSTART;TZID=America/Toronto:20251219T150000
DTEND;TZID=America/Toronto:20251219T160000
DTSTAMP:20260425T175105
CREATED:20251121T215928Z
LAST-MODIFIED:20251121T215928Z
UID:10000428-1766156400-1766160000@newbiologyclinic.com
SUMMARY:Dr. Maureen McMichael Group Pet Session: Keeping your pet thriving through the cold\, dark winter
DESCRIPTION:Dr. Maureen McMichael Group Pet Session: Keeping your pet thriving through the cold\, dark winter \n  \nIf time allows\, Maureen will also do some Q&A.  Maureen will prioritize questions that have been pre-submitted by members.  Because in this group setting Maureen is only able to provide educational information and not individualized wellness advice\, please be sure to generalize your question.  For example\, a general question is something like\, “How would you feed a dog or cat who has been diagnosed with kidney failure?” As opposed to providing lab results and detailed symptoms of any particular pet.  Care Team is happy to help you to generalize your questions if you need assistance.  Please submit questions to a Care Team member via chat or email.  We are unable to guarantee that any particular question will be answered or how long it may take for Maureen to get to questions submitted.  If you have an immediate need\, we encourage you to consider a private consultation with Maureen. \nLength: 55 Minutes \n-Please note session times are reflected in the Eastern time zone. \n  \nPlease register for this session through your member dashboard under Appointments\, then select Maureen McMichael.
URL:https://newbiologyclinic.com/events/dr-maureen-mcmichael-group-pet-session-keeping-your-pet-thriving-through-the-cold-dark-winter/
LOCATION:Zoom (link in dashboard)
END:VEVENT
BEGIN:VEVENT
DTSTART;TZID=America/Toronto:20251219T180000
DTEND;TZID=America/Toronto:20251219T190000
DTSTAMP:20260425T175105
CREATED:20251120T221758Z
LAST-MODIFIED:20251120T221813Z
UID:10000414-1766167200-1766170800@newbiologyclinic.com
SUMMARY:Q&A with Pat Daly
DESCRIPTION:Q&A with Pat Daly \nLength: 1 Hour- bring your questions! \n-Please note session times are reflected in the Eastern time zone. \nPlease register in advance via the link provided in your chat found under news & announcements. Please send a chat to a member of the care team if you cannot locate your link.
URL:https://newbiologyclinic.com/events/qa-with-pat-daly-6/
LOCATION:Zoom (link in dashboard)
END:VEVENT
END:VCALENDAR