BEGIN:VCALENDAR
VERSION:2.0
PRODID:-//New Biology Clinic - ECPv6.15.20//NONSGML v1.0//EN
CALSCALE:GREGORIAN
METHOD:PUBLISH
X-ORIGINAL-URL:https://newbiologyclinic.com
X-WR-CALDESC:Events for New Biology Clinic
REFRESH-INTERVAL;VALUE=DURATION:PT1H
X-Robots-Tag:noindex
X-PUBLISHED-TTL:PT1H
BEGIN:VTIMEZONE
TZID:America/Toronto
BEGIN:DAYLIGHT
TZOFFSETFROM:-0500
TZOFFSETTO:-0400
TZNAME:EDT
DTSTART:20250309T070000
END:DAYLIGHT
BEGIN:STANDARD
TZOFFSETFROM:-0400
TZOFFSETTO:-0500
TZNAME:EST
DTSTART:20251102T060000
END:STANDARD
BEGIN:DAYLIGHT
TZOFFSETFROM:-0500
TZOFFSETTO:-0400
TZNAME:EDT
DTSTART:20260308T070000
END:DAYLIGHT
BEGIN:STANDARD
TZOFFSETFROM:-0400
TZOFFSETTO:-0500
TZNAME:EST
DTSTART:20261101T060000
END:STANDARD
BEGIN:DAYLIGHT
TZOFFSETFROM:-0500
TZOFFSETTO:-0400
TZNAME:EDT
DTSTART:20270314T070000
END:DAYLIGHT
BEGIN:STANDARD
TZOFFSETFROM:-0400
TZOFFSETTO:-0500
TZNAME:EST
DTSTART:20271107T060000
END:STANDARD
END:VTIMEZONE
BEGIN:VEVENT
DTSTART;TZID=America/Toronto:20260310T120000
DTEND;TZID=America/Toronto:20260310T130000
DTSTAMP:20260425T112603
CREATED:20260228T162242Z
LAST-MODIFIED:20260228T162242Z
UID:10000501-1773144000-1773147600@newbiologyclinic.com
SUMMARY:Community Group Session
DESCRIPTION:Come together for communication and companionship. We are presently holding topic-based discussions. We would love to hear your suggestions for topics–please let us know! Thank you! Please join us any week that you are able–such a wonderful opportunity for connection with like-minded folks! \nLength: 1 hour \n-Please note session times are reflected in the eastern timezone. \nFrom now onward\, please join our Tuesday Community Groups directly through your member dashboard Tuesdays at Noon Eastern. To register: go to Appointments then choose book appointment and ensure you select “Enrichment Services” from the list of names.\nThen choose the group titled “Group Special Event Sessions -Members”.
URL:https://newbiologyclinic.com/events/community-group-session-50/
LOCATION:Zoom (link in dashboard)
END:VEVENT
BEGIN:VEVENT
DTSTART;TZID=America/Toronto:20260310T140000
DTEND;TZID=America/Toronto:20260310T150000
DTSTAMP:20260425T112603
CREATED:20260304T233013Z
LAST-MODIFIED:20260304T233013Z
UID:10000509-1773151200-1773154800@newbiologyclinic.com
SUMMARY:Group EFT (Emotional Freedom Technique - Tapping) with Stacy Claxton
DESCRIPTION:Join Stacy Claxton for an EFT (Emotional Freedom Technique) Tapping Session. \nLength: 1 hour \n-Please note session times are reflected in the eastern time zone. \n  \nPlease register for this session through your member dashboard under appointments\, then select Stacy Claxton.
URL:https://newbiologyclinic.com/events/group-eft-emotional-freedom-technique-tapping-with-stacy-claxton-13/
LOCATION:Zoom (link in dashboard)
END:VEVENT
BEGIN:VEVENT
DTSTART;TZID=America/Toronto:20260310T190000
DTEND;TZID=America/Toronto:20260310T200000
DTSTAMP:20260425T112603
CREATED:20260228T154238Z
LAST-MODIFIED:20260228T154238Z
UID:10000483-1773169200-1773172800@newbiologyclinic.com
SUMMARY:Group Biofield Tuning with Tatiana Agafonova
DESCRIPTION:Join Tatiana Agafonova for a group biofield tuning session \nLength: 1 hour \n-Please note session times are reflected in the eastern time zone. \n  \nPlease register for this session through your member dashboard under Appointments\, then select Dr. Tatiana Agafonova.
URL:https://newbiologyclinic.com/events/group-biofield-tuning-with-tatiana-agafonova-7/
LOCATION:Zoom (link in dashboard)
END:VEVENT
END:VCALENDAR