BEGIN:VCALENDAR
VERSION:2.0
PRODID:-//New Biology Clinic - ECPv6.15.20//NONSGML v1.0//EN
CALSCALE:GREGORIAN
METHOD:PUBLISH
X-WR-CALNAME:New Biology Clinic
X-ORIGINAL-URL:https://newbiologyclinic.com
X-WR-CALDESC:Events for New Biology Clinic
REFRESH-INTERVAL;VALUE=DURATION:PT1H
X-Robots-Tag:noindex
X-PUBLISHED-TTL:PT1H
BEGIN:VTIMEZONE
TZID:America/Toronto
BEGIN:DAYLIGHT
TZOFFSETFROM:-0500
TZOFFSETTO:-0400
TZNAME:EDT
DTSTART:20250309T070000
END:DAYLIGHT
BEGIN:STANDARD
TZOFFSETFROM:-0400
TZOFFSETTO:-0500
TZNAME:EST
DTSTART:20251102T060000
END:STANDARD
BEGIN:DAYLIGHT
TZOFFSETFROM:-0500
TZOFFSETTO:-0400
TZNAME:EDT
DTSTART:20260308T070000
END:DAYLIGHT
BEGIN:STANDARD
TZOFFSETFROM:-0400
TZOFFSETTO:-0500
TZNAME:EST
DTSTART:20261101T060000
END:STANDARD
BEGIN:DAYLIGHT
TZOFFSETFROM:-0500
TZOFFSETTO:-0400
TZNAME:EDT
DTSTART:20270314T070000
END:DAYLIGHT
BEGIN:STANDARD
TZOFFSETFROM:-0400
TZOFFSETTO:-0500
TZNAME:EST
DTSTART:20271107T060000
END:STANDARD
END:VTIMEZONE
BEGIN:VEVENT
DTSTART;TZID=America/Toronto:20260324T120000
DTEND;TZID=America/Toronto:20260324T130000
DTSTAMP:20260425T115306
CREATED:20260228T162408Z
LAST-MODIFIED:20260228T162408Z
UID:10000503-1774353600-1774357200@newbiologyclinic.com
SUMMARY:Community Group Session
DESCRIPTION:Come together for communication and companionship. We are presently holding topic-based discussions. We would love to hear your suggestions for topics–please let us know! Thank you! Please join us any week that you are able–such a wonderful opportunity for connection with like-minded folks! \nLength: 1 hour \n-Please note session times are reflected in the eastern timezone. \nFrom now onward\, please join our Tuesday Community Groups directly through your member dashboard Tuesdays at Noon Eastern. To register: go to Appointments then choose book appointment and ensure you select “Enrichment Services” from the list of names.\nThen choose the group titled “Group Special Event Sessions -Members”.
URL:https://newbiologyclinic.com/events/community-group-session-52/
LOCATION:Zoom (link in dashboard)
END:VEVENT
END:VCALENDAR