BEGIN:VCALENDAR
VERSION:2.0
PRODID:-//New Biology Clinic - ECPv6.15.20//NONSGML v1.0//EN
CALSCALE:GREGORIAN
METHOD:PUBLISH
X-WR-CALNAME:New Biology Clinic
X-ORIGINAL-URL:https://newbiologyclinic.com
X-WR-CALDESC:Events for New Biology Clinic
REFRESH-INTERVAL;VALUE=DURATION:PT1H
X-Robots-Tag:noindex
X-PUBLISHED-TTL:PT1H
BEGIN:VTIMEZONE
TZID:America/Toronto
BEGIN:DAYLIGHT
TZOFFSETFROM:-0500
TZOFFSETTO:-0400
TZNAME:EDT
DTSTART:20250309T070000
END:DAYLIGHT
BEGIN:STANDARD
TZOFFSETFROM:-0400
TZOFFSETTO:-0500
TZNAME:EST
DTSTART:20251102T060000
END:STANDARD
BEGIN:DAYLIGHT
TZOFFSETFROM:-0500
TZOFFSETTO:-0400
TZNAME:EDT
DTSTART:20260308T070000
END:DAYLIGHT
BEGIN:STANDARD
TZOFFSETFROM:-0400
TZOFFSETTO:-0500
TZNAME:EST
DTSTART:20261101T060000
END:STANDARD
BEGIN:DAYLIGHT
TZOFFSETFROM:-0500
TZOFFSETTO:-0400
TZNAME:EDT
DTSTART:20270314T070000
END:DAYLIGHT
BEGIN:STANDARD
TZOFFSETFROM:-0400
TZOFFSETTO:-0500
TZNAME:EST
DTSTART:20271107T060000
END:STANDARD
END:VTIMEZONE
BEGIN:VEVENT
DTSTART;TZID=America/Toronto:20260331T120000
DTEND;TZID=America/Toronto:20260331T130000
DTSTAMP:20260425T094913
CREATED:20260228T162508Z
LAST-MODIFIED:20260228T162508Z
UID:10000504-1774958400-1774962000@newbiologyclinic.com
SUMMARY:Community Group Session
DESCRIPTION:Come together for communication and companionship. We are presently holding topic-based discussions. We would love to hear your suggestions for topics–please let us know! Thank you! Please join us any week that you are able–such a wonderful opportunity for connection with like-minded folks! \nLength: 1 hour \n-Please note session times are reflected in the eastern timezone. \nFrom now onward\, please join our Tuesday Community Groups directly through your member dashboard Tuesdays at Noon Eastern. To register: go to Appointments then choose book appointment and ensure you select “Enrichment Services” from the list of names.\nThen choose the group titled “Group Special Event Sessions -Members”.
URL:https://newbiologyclinic.com/events/community-group-session-53/
LOCATION:Zoom (link in dashboard)
END:VEVENT
BEGIN:VEVENT
DTSTART;TZID=America/Toronto:20260331T173000
DTEND;TZID=America/Toronto:20260331T183000
DTSTAMP:20260425T094913
CREATED:20260228T160147Z
LAST-MODIFIED:20260323T221011Z
UID:10000489-1774978200-1774981800@newbiologyclinic.com
SUMMARY:Group Support Session with Dr. Pamela Shervanick
DESCRIPTION:Group Support session with Dr. Pamela Shervanick. This group meets confidentially bringing members together to discuss relevant topics in peoples lives with other like minded individuals.  It is an opportunity to come together and support one another with health\, social\, personal and lifestyle issues. \nTopic: TBD \nLength: 1 hour \n-Please note session times are reflected in the eastern time zone. \n  \n*To book your appointment for Pam’s group sessions\, ensure you choose “Enrichment Services” from the list of names and then choose “Group Support Session with Pam”.
URL:https://newbiologyclinic.com/events/group-support-session-with-dr-pamela-shervanick-42/
LOCATION:Zoom (link in dashboard)
END:VEVENT
END:VCALENDAR