BEGIN:VCALENDAR
VERSION:2.0
PRODID:-//New Biology Clinic - ECPv6.15.20//NONSGML v1.0//EN
CALSCALE:GREGORIAN
METHOD:PUBLISH
X-WR-CALNAME:New Biology Clinic
X-ORIGINAL-URL:https://newbiologyclinic.com
X-WR-CALDESC:Events for New Biology Clinic
REFRESH-INTERVAL;VALUE=DURATION:PT1H
X-Robots-Tag:noindex
X-PUBLISHED-TTL:PT1H
BEGIN:VTIMEZONE
TZID:America/Toronto
BEGIN:DAYLIGHT
TZOFFSETFROM:-0500
TZOFFSETTO:-0400
TZNAME:EDT
DTSTART:20250309T070000
END:DAYLIGHT
BEGIN:STANDARD
TZOFFSETFROM:-0400
TZOFFSETTO:-0500
TZNAME:EST
DTSTART:20251102T060000
END:STANDARD
BEGIN:DAYLIGHT
TZOFFSETFROM:-0500
TZOFFSETTO:-0400
TZNAME:EDT
DTSTART:20260308T070000
END:DAYLIGHT
BEGIN:STANDARD
TZOFFSETFROM:-0400
TZOFFSETTO:-0500
TZNAME:EST
DTSTART:20261101T060000
END:STANDARD
BEGIN:DAYLIGHT
TZOFFSETFROM:-0500
TZOFFSETTO:-0400
TZNAME:EDT
DTSTART:20270314T070000
END:DAYLIGHT
BEGIN:STANDARD
TZOFFSETFROM:-0400
TZOFFSETTO:-0500
TZNAME:EST
DTSTART:20271107T060000
END:STANDARD
END:VTIMEZONE
BEGIN:VEVENT
DTSTART;TZID=America/Toronto:20260406T180000
DTEND;TZID=America/Toronto:20260406T185500
DTSTAMP:20260425T093723
CREATED:20260228T160842Z
LAST-MODIFIED:20260331T163748Z
UID:10000492-1775498400-1775501700@newbiologyclinic.com
SUMMARY:Advanced Movement Session with Pat Daly
DESCRIPTION:Advanced movement session with our Primal Movement Coach\, Pat Daly. \nLength: 55 Minutes \n-Please note session times are reflected in the eastern time zone. \n  \nPlease register for this session through your member dashboard under Appointments\, then select Pat Daly.
URL:https://newbiologyclinic.com/events/advanced-movement-session-with-pat-daly-67/
LOCATION:Zoom (link in dashboard)
END:VEVENT
BEGIN:VEVENT
DTSTART;TZID=America/Toronto:20260406T190000
DTEND;TZID=America/Toronto:20260406T195500
DTSTAMP:20260425T093723
CREATED:20260228T160938Z
LAST-MODIFIED:20260331T163857Z
UID:10000493-1775502000-1775505300@newbiologyclinic.com
SUMMARY:Beginner Movement Session with Pat Daly
DESCRIPTION:Beginner movement session with our Primal Movement Coach\, Pat Daly. \nLength: 55 Minutes \n-Please note session times are reflected in the eastern time zone. \n  \nPlease register for this session through your member dashboard under Appointments\, then select Pat Daly. \n 
URL:https://newbiologyclinic.com/events/beginner-movement-session-with-pat-daly-64/
LOCATION:Zoom (link in dashboard)
END:VEVENT
END:VCALENDAR