BEGIN:VCALENDAR
VERSION:2.0
PRODID:-//New Biology Clinic - ECPv6.15.20//NONSGML v1.0//EN
CALSCALE:GREGORIAN
METHOD:PUBLISH
X-ORIGINAL-URL:https://newbiologyclinic.com
X-WR-CALDESC:Events for New Biology Clinic
REFRESH-INTERVAL;VALUE=DURATION:PT1H
X-Robots-Tag:noindex
X-PUBLISHED-TTL:PT1H
BEGIN:VTIMEZONE
TZID:America/Toronto
BEGIN:DAYLIGHT
TZOFFSETFROM:-0500
TZOFFSETTO:-0400
TZNAME:EDT
DTSTART:20250309T070000
END:DAYLIGHT
BEGIN:STANDARD
TZOFFSETFROM:-0400
TZOFFSETTO:-0500
TZNAME:EST
DTSTART:20251102T060000
END:STANDARD
BEGIN:DAYLIGHT
TZOFFSETFROM:-0500
TZOFFSETTO:-0400
TZNAME:EDT
DTSTART:20260308T070000
END:DAYLIGHT
BEGIN:STANDARD
TZOFFSETFROM:-0400
TZOFFSETTO:-0500
TZNAME:EST
DTSTART:20261101T060000
END:STANDARD
BEGIN:DAYLIGHT
TZOFFSETFROM:-0500
TZOFFSETTO:-0400
TZNAME:EDT
DTSTART:20270314T070000
END:DAYLIGHT
BEGIN:STANDARD
TZOFFSETFROM:-0400
TZOFFSETTO:-0500
TZNAME:EST
DTSTART:20271107T060000
END:STANDARD
END:VTIMEZONE
BEGIN:VEVENT
DTSTART;TZID=America/Toronto:20260416T100000
DTEND;TZID=America/Toronto:20260416T110000
DTSTAMP:20260425T112947
CREATED:20260331T011956Z
LAST-MODIFIED:20260331T011956Z
UID:10000533-1776333600-1776337200@newbiologyclinic.com
SUMMARY:Q&A with Dr. Tom Cowan
DESCRIPTION:Join us for a Q&A with Dr. Tom Cowan \nLength: 1 hour \n-Please note session times are reflected in the eastern timezone. \nGo to Book Appointment. Once there\, instead of choosing your Primary Wellness Specialists’s name\, choose Enrichment Services. And from there choose the appointment type that is the Q&A with Tom Cowan. \nOnce you register\, you will receive a waiver to sign\, so please sign that form well before the day of the meeting. For the sake of your privacy\, we will be making sure that everyone who attends is an active clinic member. If you need any assistance\, please contact the Care Team well in advance of the day of the meeting. \nThe day of the meeting\, please log onto the Zoom at 9:45 am eastern time. You will either be in a waiting room upon logging in or will be put in a waiting room shortly thereafter. If you do not come at 9:45\, we are unable to guarantee that we will be able to admit you into the meeting\, because we will be using the time between 9:45 and 10 am to check memberships of everyone in the waiting room. \nIn order to expedite the process\, we need you to come to the zoom using your full first and last name\, and it needs to match up with the name you have on your New Biology Clinic account. If you need to dial-in or to use a different name\, please be sure to make arrangements with the Care Team well in advance of the day of the session\, as we will need to be able to positively identify who everyone is in the waiting room.
URL:https://newbiologyclinic.com/events/qa-with-dr-tom-cowan-36/
LOCATION:Zoom (link in dashboard)
END:VEVENT
BEGIN:VEVENT
DTSTART;TZID=America/Toronto:20260416T190000
DTEND;TZID=America/Toronto:20260416T200000
DTSTAMP:20260425T112947
CREATED:20260331T002939Z
LAST-MODIFIED:20260331T002939Z
UID:10000514-1776366000-1776369600@newbiologyclinic.com
SUMMARY:Group Guided Meditation Session with Tatiana Agafonova
DESCRIPTION:Join Tatiana Agafonova for a group guided meditation session \nLength: 1 hour \n-Please note session times are reflected in the eastern time zone. \n  \nPlease register for this session through your member dashboard under Appointments\, then select Dr. Tatiana Agafonova.
URL:https://newbiologyclinic.com/events/group-guided-meditation-session-with-tatiana-agafonova-8/
LOCATION:Zoom (link in dashboard)
END:VEVENT
BEGIN:VEVENT
DTSTART;TZID=America/Toronto:20260418T120000
DTEND;TZID=America/Toronto:20260418T130000
DTSTAMP:20260425T112947
CREATED:20260331T002221Z
LAST-MODIFIED:20260331T002221Z
UID:10000510-1776513600-1776517200@newbiologyclinic.com
SUMMARY:Roundtable with Tom Cowan and some of the Primary Wellness Specialists: Skin\, Hair Nails
DESCRIPTION:New Biology Clinic Roundtable Discussion with Dr. Tom Cowan & our New Biology Clinic Wellness Specialists \nTopic: Skin\, Hair Nails \n\n\n\n\n\n\n\n\n\n\n\nSaturday\, April 18th at noon Eastern\n\n\n\n\n\n\n\n\n\n\n\nLength: 1 Hour \n-Please note session times are reflected in the eastern time zone. \n  \nPlease register in advance via the link provided in your chat found under news & announcements. Please send a chat to a member of the care team if you cannot locate your link.
URL:https://newbiologyclinic.com/events/roundtable-with-tom-cowan-and-some-of-the-primary-wellness-specialists-skin-hair-nails/
LOCATION:Zoom (link in dashboard)
END:VEVENT
BEGIN:VEVENT
DTSTART;TZID=America/Toronto:20260420T160000
DTEND;TZID=America/Toronto:20260420T170000
DTSTAMP:20260425T112947
CREATED:20260331T011524Z
LAST-MODIFIED:20260331T011524Z
UID:10000530-1776700800-1776704400@newbiologyclinic.com
SUMMARY:Group Nutrition Session with Monica Corrado- Eat Your Weeds!
DESCRIPTION:Eat Your Weeds! \nAnd other tips for being well during the spring! \nLength: 1 hour \n-Please note session times are reflected in the Eastern time zone. \n  \nPlease register for this session through your member dashboard under appointments\, then select Monica Corrado.
URL:https://newbiologyclinic.com/events/group-nutrition-session-with-monica-corrado-eat-your-weeds/
LOCATION:Zoom (link in dashboard)
END:VEVENT
BEGIN:VEVENT
DTSTART;TZID=America/Toronto:20260421T120000
DTEND;TZID=America/Toronto:20260421T130000
DTSTAMP:20260425T112947
CREATED:20260331T005947Z
LAST-MODIFIED:20260331T005947Z
UID:10000520-1776772800-1776776400@newbiologyclinic.com
SUMMARY:Community Group Session
DESCRIPTION:Come together for communication and companionship. We are presently holding topic-based discussions. We would love to hear your suggestions for topics–please let us know! Thank you! Please join us any week that you are able–such a wonderful opportunity for connection with like-minded folks! \nLength: 1 hour \n-Please note session times are reflected in the eastern timezone. \nFrom now onward\, please join our Tuesday Community Groups directly through your member dashboard Tuesdays at Noon Eastern. To register: go to Appointments then choose book appointment and ensure you select “Enrichment Services” from the list of names.\nThen choose the group titled “Group Special Event Sessions -Members”.
URL:https://newbiologyclinic.com/events/community-group-session-56/
LOCATION:Zoom (link in dashboard)
END:VEVENT
BEGIN:VEVENT
DTSTART;TZID=America/Toronto:20260421T140000
DTEND;TZID=America/Toronto:20260421T150000
DTSTAMP:20260425T112947
CREATED:20260331T002503Z
LAST-MODIFIED:20260331T002503Z
UID:10000512-1776780000-1776783600@newbiologyclinic.com
SUMMARY:Group EFT (Emotional Freedom Technique - Tapping) with Stacy Claxton
DESCRIPTION:Join Stacy Claxton for an EFT (Emotional Freedom Technique) Tapping Session. \nEmotional Freedom Techniques (EFT)\, or tapping\, is one of the simplest and most effective strategies for shifting the body to a place of safety\, healing\, and connection. Come experience the physical\, mental\, and emotional benefits from simply tapping your own fingertips on specific points of your body under the leadership of our expert and compassionate EFT facilitator\, Stacy Claxton. \nLength: 1 hour \n-Please note session times are reflected in the eastern time zone. \n  \nPlease register for this session through your member dashboard under appointments\, then select Stacy Claxton.
URL:https://newbiologyclinic.com/events/group-eft-emotional-freedom-technique-tapping-with-stacy-claxton-14/
LOCATION:Zoom (link in dashboard)
END:VEVENT
BEGIN:VEVENT
DTSTART;TZID=America/Toronto:20260421T173000
DTEND;TZID=America/Toronto:20260421T183000
DTSTAMP:20260425T112947
CREATED:20260331T005424Z
LAST-MODIFIED:20260331T005424Z
UID:10000517-1776792600-1776796200@newbiologyclinic.com
SUMMARY:Group Support Session with Dr. Pamela Shervanick
DESCRIPTION:Group Support session with Dr. Pamela Shervanick. This group meets confidentially bringing members together to discuss relevant topics in peoples lives with other like minded individuals.  It is an opportunity to come together and support one another with health\, social\, personal and lifestyle issues. \nTopic: TBD \nLength: 1 hour \n-Please note session times are reflected in the eastern time zone. \n  \n*To book your appointment for Pam’s group sessions\, ensure you choose “Enrichment Services” from the list of names and then choose “Group Support Session with Pam”.
URL:https://newbiologyclinic.com/events/group-support-session-with-dr-pamela-shervanick-44/
LOCATION:Zoom (link in dashboard)
END:VEVENT
BEGIN:VEVENT
DTSTART;TZID=America/Toronto:20260422T150000
DTEND;TZID=America/Toronto:20260422T160000
DTSTAMP:20260425T112947
CREATED:20260331T011252Z
LAST-MODIFIED:20260331T011252Z
UID:10000528-1776870000-1776873600@newbiologyclinic.com
SUMMARY:Ron Carlson\, Dental Specialist: If You Have Tooth Pain
DESCRIPTION:Ron Carlson\, Dental Specialist: If You Have Tooth Pain \nLength: 1 hour \n-Please note session times are reflected in the Eastern time zone. \n  \nPlease register for this session through your member dashboard under appointments\, then select Ron Carlson.
URL:https://newbiologyclinic.com/events/ron-carlson-dental-specialist-if-you-have-tooth-pain/
LOCATION:Zoom (link in dashboard)
END:VEVENT
BEGIN:VEVENT
DTSTART;TZID=America/Toronto:20260423T100000
DTEND;TZID=America/Toronto:20260423T110000
DTSTAMP:20260425T112947
CREATED:20260331T012034Z
LAST-MODIFIED:20260331T012034Z
UID:10000534-1776938400-1776942000@newbiologyclinic.com
SUMMARY:Q&A with Dr. Tom Cowan
DESCRIPTION:Join us for a Q&A with Dr. Tom Cowan \nLength: 1 hour \n-Please note session times are reflected in the eastern timezone. \nGo to Book Appointment. Once there\, instead of choosing your Primary Wellness Specialists’s name\, choose Enrichment Services. And from there choose the appointment type that is the Q&A with Tom Cowan. \nOnce you register\, you will receive a waiver to sign\, so please sign that form well before the day of the meeting. For the sake of your privacy\, we will be making sure that everyone who attends is an active clinic member. If you need any assistance\, please contact the Care Team well in advance of the day of the meeting. \nThe day of the meeting\, please log onto the Zoom at 9:45 am eastern time. You will either be in a waiting room upon logging in or will be put in a waiting room shortly thereafter. If you do not come at 9:45\, we are unable to guarantee that we will be able to admit you into the meeting\, because we will be using the time between 9:45 and 10 am to check memberships of everyone in the waiting room. \nIn order to expedite the process\, we need you to come to the zoom using your full first and last name\, and it needs to match up with the name you have on your New Biology Clinic account. If you need to dial-in or to use a different name\, please be sure to make arrangements with the Care Team well in advance of the day of the session\, as we will need to be able to positively identify who everyone is in the waiting room.
URL:https://newbiologyclinic.com/events/qa-with-dr-tom-cowan-37/
LOCATION:Zoom (link in dashboard)
END:VEVENT
BEGIN:VEVENT
DTSTART;TZID=America/Toronto:20260423T180000
DTEND;TZID=America/Toronto:20260423T185500
DTSTAMP:20260425T112947
CREATED:20260331T011009Z
LAST-MODIFIED:20260331T011009Z
UID:10000526-1776967200-1776970500@newbiologyclinic.com
SUMMARY:Advanced Movement Session with Pat Daly
DESCRIPTION:Advanced movement session with our Primal Movement Coach\, Pat Daly. \nLength: 55 Minutes \n-Please note session times are reflected in the eastern time zone. \n  \nPlease register for this session through your member dashboard under Appointments\, then select Pat Daly.
URL:https://newbiologyclinic.com/events/advanced-movement-session-with-pat-daly-70/
LOCATION:Zoom (link in dashboard)
END:VEVENT
BEGIN:VEVENT
DTSTART;TZID=America/Toronto:20260423T190000
DTEND;TZID=America/Toronto:20260423T195500
DTSTAMP:20260425T112947
CREATED:20260331T010353Z
LAST-MODIFIED:20260331T010353Z
UID:10000523-1776970800-1776974100@newbiologyclinic.com
SUMMARY:Beginner Movement Session with Pat Daly
DESCRIPTION:Beginner movement session with our Primal Movement Coach\, Pat Daly. \nLength: 55 Minutes \n-Please note session times are reflected in the eastern time zone. \n  \nPlease register for this session through your member dashboard under Appointments\, then select Pat Daly. \n 
URL:https://newbiologyclinic.com/events/beginner-movement-session-with-pat-daly-67/
LOCATION:Zoom (link in dashboard)
END:VEVENT
BEGIN:VEVENT
DTSTART;TZID=America/Toronto:20260424T150000
DTEND;TZID=America/Toronto:20260424T160000
DTSTAMP:20260425T112947
CREATED:20260331T011705Z
LAST-MODIFIED:20260331T011705Z
UID:10000531-1777042800-1777046400@newbiologyclinic.com
SUMMARY:Dr. Maureen McMichael Group Pet Session: Q&A
DESCRIPTION:Dr. Maureen McMichael Group Pet Session: Q&A \n  \nMaureen will prioritize questions that have been pre-submitted by members. Because in this group setting Maureen is only able to provide educational information and not individualized wellness advice\, please be sure to generalize your question. For example\, a general question is something like\, “How would you feed a dog or cat who has been diagnosed with kidney failure?” As opposed to providing lab results and detailed symptoms of any particular pet. Care Team is happy to help you to generalize your questions if you need assistance. Please submit questions to a Care Team member via chat or email. We are unable to guarantee that any particular question will be answered. If you have an immediate need\, we encourage you to consider a private consultation with Maureen. \nLength: 55 Minutes \n-Please note session times are reflected in the Eastern time zone. \n  \nPlease register for this session through your member dashboard under Appointments\, then select Maureen McMichael.
URL:https://newbiologyclinic.com/events/dr-maureen-mcmichael-group-pet-session-qa/
LOCATION:Zoom (link in dashboard)
END:VEVENT
BEGIN:VEVENT
DTSTART;TZID=America/Toronto:20260425T150000
DTEND;TZID=America/Toronto:20260425T160000
DTSTAMP:20260425T112947
CREATED:20260331T003034Z
LAST-MODIFIED:20260331T003034Z
UID:10000515-1777129200-1777132800@newbiologyclinic.com
SUMMARY:Group Breathing- Integration Session with Tatiana Agafonova
DESCRIPTION:Join Tatiana Agafonova for a group breathing integration session \nLength: 1 hour \n-Please note session times are reflected in the eastern time zone. \n  \nPlease register for this session through your member dashboard under Appointments\, then select Dr. Tatiana Agafonova.
URL:https://newbiologyclinic.com/events/group-breathing-integration-session-with-tatiana-agafonova-8/
LOCATION:Zoom (link in dashboard)
END:VEVENT
BEGIN:VEVENT
DTSTART;TZID=America/Toronto:20260427T190000
DTEND;TZID=America/Toronto:20260427T200000
DTSTAMP:20260425T112947
CREATED:20260331T002336Z
LAST-MODIFIED:20260331T002336Z
UID:10000511-1777316400-1777320000@newbiologyclinic.com
SUMMARY:Adrenaline And Cortisol Are Not One In The Same with Pat Daly
DESCRIPTION:Adrenaline And Cortisol Are Not One In The Same with Pat Daly \nLength: 1 Hour \n-Please note session times are reflected in the Eastern time zone. \nPlease register in advance via the link provided in your chat found under news & announcements. Please send a chat to a member of the care team if you cannot locate your link.
URL:https://newbiologyclinic.com/events/adrenaline-and-cortisol-are-not-one-in-the-same-with-pat-daly/
LOCATION:Zoom (link in dashboard)
END:VEVENT
BEGIN:VEVENT
DTSTART;TZID=America/Toronto:20260428T120000
DTEND;TZID=America/Toronto:20260428T130000
DTSTAMP:20260425T112947
CREATED:20260331T010015Z
LAST-MODIFIED:20260331T010015Z
UID:10000521-1777377600-1777381200@newbiologyclinic.com
SUMMARY:Community Group Session
DESCRIPTION:Come together for communication and companionship. We are presently holding topic-based discussions. We would love to hear your suggestions for topics–please let us know! Thank you! Please join us any week that you are able–such a wonderful opportunity for connection with like-minded folks! \nLength: 1 hour \n-Please note session times are reflected in the eastern timezone. \nFrom now onward\, please join our Tuesday Community Groups directly through your member dashboard Tuesdays at Noon Eastern. To register: go to Appointments then choose book appointment and ensure you select “Enrichment Services” from the list of names.\nThen choose the group titled “Group Special Event Sessions -Members”.
URL:https://newbiologyclinic.com/events/community-group-session-57/
LOCATION:Zoom (link in dashboard)
END:VEVENT
BEGIN:VEVENT
DTSTART;TZID=America/Toronto:20260430T100000
DTEND;TZID=America/Toronto:20260430T110000
DTSTAMP:20260425T112947
CREATED:20260331T012117Z
LAST-MODIFIED:20260331T012117Z
UID:10000535-1777543200-1777546800@newbiologyclinic.com
SUMMARY:Q&A with Dr. Tom Cowan
DESCRIPTION:Join us for a Q&A with Dr. Tom Cowan \nLength: 1 hour \n-Please note session times are reflected in the eastern timezone. \nGo to Book Appointment. Once there\, instead of choosing your Primary Wellness Specialists’s name\, choose Enrichment Services. And from there choose the appointment type that is the Q&A with Tom Cowan. \nOnce you register\, you will receive a waiver to sign\, so please sign that form well before the day of the meeting. For the sake of your privacy\, we will be making sure that everyone who attends is an active clinic member. If you need any assistance\, please contact the Care Team well in advance of the day of the meeting. \nThe day of the meeting\, please log onto the Zoom at 9:45 am eastern time. You will either be in a waiting room upon logging in or will be put in a waiting room shortly thereafter. If you do not come at 9:45\, we are unable to guarantee that we will be able to admit you into the meeting\, because we will be using the time between 9:45 and 10 am to check memberships of everyone in the waiting room. \nIn order to expedite the process\, we need you to come to the zoom using your full first and last name\, and it needs to match up with the name you have on your New Biology Clinic account. If you need to dial-in or to use a different name\, please be sure to make arrangements with the Care Team well in advance of the day of the session\, as we will need to be able to positively identify who everyone is in the waiting room.
URL:https://newbiologyclinic.com/events/qa-with-dr-tom-cowan-38/
LOCATION:Zoom (link in dashboard)
END:VEVENT
BEGIN:VEVENT
DTSTART;TZID=America/Toronto:20260430T180000
DTEND;TZID=America/Toronto:20260430T185500
DTSTAMP:20260425T112947
CREATED:20260331T011048Z
LAST-MODIFIED:20260331T011048Z
UID:10000527-1777572000-1777575300@newbiologyclinic.com
SUMMARY:Advanced Movement Session with Pat Daly
DESCRIPTION:Advanced movement session with our Primal Movement Coach\, Pat Daly. \nLength: 55 Minutes \n-Please note session times are reflected in the eastern time zone. \n  \nPlease register for this session through your member dashboard under Appointments\, then select Pat Daly.
URL:https://newbiologyclinic.com/events/advanced-movement-session-with-pat-daly-71/
LOCATION:Zoom (link in dashboard)
END:VEVENT
BEGIN:VEVENT
DTSTART;TZID=America/Toronto:20260430T190000
DTEND;TZID=America/Toronto:20260430T195500
DTSTAMP:20260425T112947
CREATED:20260331T010429Z
LAST-MODIFIED:20260331T010429Z
UID:10000524-1777575600-1777578900@newbiologyclinic.com
SUMMARY:Beginner Movement Session with Pat Daly
DESCRIPTION:Beginner movement session with our Primal Movement Coach\, Pat Daly. \nLength: 55 Minutes \n-Please note session times are reflected in the eastern time zone. \n  \nPlease register for this session through your member dashboard under Appointments\, then select Pat Daly. \n 
URL:https://newbiologyclinic.com/events/beginner-movement-session-with-pat-daly-68/
LOCATION:Zoom (link in dashboard)
END:VEVENT
END:VCALENDAR