BEGIN:VCALENDAR
VERSION:2.0
PRODID:-//New Biology Clinic - ECPv6.15.20//NONSGML v1.0//EN
CALSCALE:GREGORIAN
METHOD:PUBLISH
X-WR-CALNAME:New Biology Clinic
X-ORIGINAL-URL:https://newbiologyclinic.com
X-WR-CALDESC:Events for New Biology Clinic
REFRESH-INTERVAL;VALUE=DURATION:PT1H
X-Robots-Tag:noindex
X-PUBLISHED-TTL:PT1H
BEGIN:VTIMEZONE
TZID:America/Toronto
BEGIN:DAYLIGHT
TZOFFSETFROM:-0500
TZOFFSETTO:-0400
TZNAME:EDT
DTSTART:20240310T070000
END:DAYLIGHT
BEGIN:STANDARD
TZOFFSETFROM:-0400
TZOFFSETTO:-0500
TZNAME:EST
DTSTART:20241103T060000
END:STANDARD
BEGIN:DAYLIGHT
TZOFFSETFROM:-0500
TZOFFSETTO:-0400
TZNAME:EDT
DTSTART:20250309T070000
END:DAYLIGHT
BEGIN:STANDARD
TZOFFSETFROM:-0400
TZOFFSETTO:-0500
TZNAME:EST
DTSTART:20251102T060000
END:STANDARD
BEGIN:DAYLIGHT
TZOFFSETFROM:-0500
TZOFFSETTO:-0400
TZNAME:EDT
DTSTART:20260308T070000
END:DAYLIGHT
BEGIN:STANDARD
TZOFFSETFROM:-0400
TZOFFSETTO:-0500
TZNAME:EST
DTSTART:20261101T060000
END:STANDARD
END:VTIMEZONE
BEGIN:VEVENT
DTSTART;TZID=America/Toronto:20251218T190000
DTEND;TZID=America/Toronto:20251218T200000
DTSTAMP:20260425T162605
CREATED:20251120T220321Z
LAST-MODIFIED:20251120T220321Z
UID:10000406-1766084400-1766088000@newbiologyclinic.com
SUMMARY:Group Guided Meditation Session with Tatiana Agafonova
DESCRIPTION:Join Tatiana Agafonova for a group guided meditation session \nLength: 1 hour \n-Please note session times are reflected in the eastern time zone. \n  \nPlease register for this session through your member dashboard under Appointments\, then select Dr. Tatiana Agafonova.
URL:https://newbiologyclinic.com/events/group-guided-meditation-session-with-tatiana-agafonova-4/
LOCATION:Zoom (link in dashboard)
END:VEVENT
BEGIN:VEVENT
DTSTART;TZID=America/Toronto:20251213T150000
DTEND;TZID=America/Toronto:20251213T160000
DTSTAMP:20260425T162605
CREATED:20251120T220235Z
LAST-MODIFIED:20251120T220235Z
UID:10000405-1765638000-1765641600@newbiologyclinic.com
SUMMARY:Group Breathing- Integration Session with Tatiana Agafonova
DESCRIPTION:Join Tatiana Agafonova for a group breathing integration session \nLength: 1 hour \n-Please note session times are reflected in the eastern time zone. \n  \nPlease register for this session through your member dashboard under Appointments\, then select Dr. Tatiana Agafonova.
URL:https://newbiologyclinic.com/events/group-breathing-integration-session-with-tatiana-agafonova-4/
LOCATION:Zoom (link in dashboard)
END:VEVENT
BEGIN:VEVENT
DTSTART;TZID=America/Toronto:20251202T190000
DTEND;TZID=America/Toronto:20251202T200000
DTSTAMP:20260425T162605
CREATED:20251120T220128Z
LAST-MODIFIED:20251120T220128Z
UID:10000404-1764702000-1764705600@newbiologyclinic.com
SUMMARY:Group Biofield Tuning with Tatiana Agafonova
DESCRIPTION:Join Tatiana Agafonova for a group biofield tuning session \nLength: 1 hour \n-Please note session times are reflected in the eastern time zone. \n  \nPlease register for this session through your member dashboard under Appointments\, then select Dr. Tatiana Agafonova.
URL:https://newbiologyclinic.com/events/group-biofield-tuning-with-tatiana-agafonova-4/
LOCATION:Zoom (link in dashboard)
END:VEVENT
BEGIN:VEVENT
DTSTART;TZID=America/Toronto:20251122T150000
DTEND;TZID=America/Toronto:20251122T160000
DTSTAMP:20260425T162605
CREATED:20251028T223657Z
LAST-MODIFIED:20251028T223657Z
UID:10000392-1763823600-1763827200@newbiologyclinic.com
SUMMARY:Group Breathing- Integration Session with Tatiana Agafonova
DESCRIPTION:Join Tatiana Agafonova for a group breathing integration session \nLength: 1 hour \n-Please note session times are reflected in the eastern time zone. \n  \nPlease register for this session through your member dashboard under Appointments\, then select Dr. Tatiana Agafonova.
URL:https://newbiologyclinic.com/events/group-breathing-integration-session-with-tatiana-agafonova-3/
LOCATION:Zoom (link in dashboard)
END:VEVENT
BEGIN:VEVENT
DTSTART;TZID=America/Toronto:20251120T190000
DTEND;TZID=America/Toronto:20251120T200000
DTSTAMP:20260425T162605
CREATED:20251028T223539Z
LAST-MODIFIED:20251028T223539Z
UID:10000391-1763665200-1763668800@newbiologyclinic.com
SUMMARY:Group Guided Meditation Session with Tatiana Agafonova
DESCRIPTION:Join Tatiana Agafonova for a group guided meditation session \nLength: 1 hour \n-Please note session times are reflected in the eastern time zone. \n  \nPlease register for this session through your member dashboard under Appointments\, then select Dr. Tatiana Agafonova.
URL:https://newbiologyclinic.com/events/group-guided-meditation-session-with-tatiana-agafonova-3/
LOCATION:Zoom (link in dashboard)
END:VEVENT
BEGIN:VEVENT
DTSTART;TZID=America/Toronto:20251111T190000
DTEND;TZID=America/Toronto:20251111T200000
DTSTAMP:20260425T162605
CREATED:20251028T223419Z
LAST-MODIFIED:20251028T223419Z
UID:10000390-1762887600-1762891200@newbiologyclinic.com
SUMMARY:Group Biofield Tuning with Tatiana Agafonova
DESCRIPTION:Join Tatiana Agafonova for a group biofield tuning session \nLength: 1 hour \n-Please note session times are reflected in the eastern time zone. \n  \nPlease register for this session through your member dashboard under Appointments\, then select Dr. Tatiana Agafonova.
URL:https://newbiologyclinic.com/events/group-biofield-tuning-with-tatiana-agafonova-3/
LOCATION:Zoom (link in dashboard)
END:VEVENT
BEGIN:VEVENT
DTSTART;TZID=America/Toronto:20251025T150000
DTEND;TZID=America/Toronto:20251025T160000
DTSTAMP:20260425T162605
CREATED:20250924T225405Z
LAST-MODIFIED:20250924T225405Z
UID:10000369-1761404400-1761408000@newbiologyclinic.com
SUMMARY:Group Breathing- Integration Session with Tatiana Agafonova
DESCRIPTION:Join Tatiana Agafonova for a group breathing integration session \nLength: 1 hour \n-Please note session times are reflected in the eastern time zone. \n  \nPlease register for this session through your member dashboard under Appointments\, then select Dr. Tatiana Agafonova.
URL:https://newbiologyclinic.com/events/group-breathing-integration-session-with-tatiana-agafonova-2/
LOCATION:Zoom (link in dashboard)
END:VEVENT
BEGIN:VEVENT
DTSTART;TZID=America/Toronto:20251016T190000
DTEND;TZID=America/Toronto:20251016T200000
DTSTAMP:20260425T162605
CREATED:20250924T225211Z
LAST-MODIFIED:20250924T225211Z
UID:10000368-1760641200-1760644800@newbiologyclinic.com
SUMMARY:Group Guided Meditation Session with Tatiana Agafonova
DESCRIPTION:Join Tatiana Agafonova for a group guided meditation session \nLength: 1 hour \n-Please note session times are reflected in the eastern time zone. \n  \nPlease register for this session through your member dashboard under Appointments\, then select Dr. Tatiana Agafonova.
URL:https://newbiologyclinic.com/events/group-guided-meditation-session-with-tatiana-agafonova-2/
LOCATION:Zoom (link in dashboard)
END:VEVENT
BEGIN:VEVENT
DTSTART;TZID=America/Toronto:20251014T190000
DTEND;TZID=America/Toronto:20251014T200000
DTSTAMP:20260425T162605
CREATED:20250924T225016Z
LAST-MODIFIED:20250924T225016Z
UID:10000367-1760468400-1760472000@newbiologyclinic.com
SUMMARY:Group Biofield Tuning with Tatiana Agafonova
DESCRIPTION:Join Tatiana Agafonova for a group biofield tuning session \nLength: 1 hour \n-Please note session times are reflected in the eastern time zone. \n  \nPlease register for this session through your member dashboard under Appointments\, then select Dr. Tatiana Agafonova.
URL:https://newbiologyclinic.com/events/group-biofield-tuning-with-tatiana-agafonova-2/
LOCATION:Zoom (link in dashboard)
END:VEVENT
BEGIN:VEVENT
DTSTART;TZID=America/Toronto:20250927T150000
DTEND;TZID=America/Toronto:20250927T160000
DTSTAMP:20260425T162605
CREATED:20250826T185703Z
LAST-MODIFIED:20250826T185703Z
UID:10000342-1758985200-1758988800@newbiologyclinic.com
SUMMARY:Group Breathing- Integration Session with Tatiana Agafonova
DESCRIPTION:Join Tatiana Agafonova for a group breathing integration session \nLength: 1 hour \n-Please note session times are reflected in the eastern time zone. \n  \nPlease register for this session through your member dashboard under Appointments\, then select Dr. Tatiana Agafonova.
URL:https://newbiologyclinic.com/events/group-breathing-integration-session-with-tatiana-agafonova/
LOCATION:Zoom (link in dashboard)
END:VEVENT
BEGIN:VEVENT
DTSTART;TZID=America/Toronto:20250918T190000
DTEND;TZID=America/Toronto:20250918T200000
DTSTAMP:20260425T162605
CREATED:20250826T185540Z
LAST-MODIFIED:20250826T185540Z
UID:10000341-1758222000-1758225600@newbiologyclinic.com
SUMMARY:Group Guided Meditation Session with Tatiana Agafonova
DESCRIPTION:Join Tatiana Agafonova for a group guided meditation session \nLength: 1 hour \n-Please note session times are reflected in the eastern time zone. \n  \nPlease register for this session through your member dashboard under Appointments\, then select Dr. Tatiana Agafonova.
URL:https://newbiologyclinic.com/events/group-guided-meditation-session-with-tatiana-agafonova/
LOCATION:Zoom (link in dashboard)
END:VEVENT
BEGIN:VEVENT
DTSTART;TZID=America/Toronto:20250916T190000
DTEND;TZID=America/Toronto:20250916T200000
DTSTAMP:20260425T162605
CREATED:20250826T185247Z
LAST-MODIFIED:20250826T185247Z
UID:10000340-1758049200-1758052800@newbiologyclinic.com
SUMMARY:Group Biofield Tuning with Tatiana Agafonova
DESCRIPTION:Join Tatiana Agafonova for a group biofield tuning session \nLength: 1 hour \n-Please note session times are reflected in the eastern time zone. \n  \nPlease register for this session through your member dashboard under Appointments\, then select Dr. Tatiana Agafonova.
URL:https://newbiologyclinic.com/events/group-biofield-tuning-with-tatiana-agafonova/
LOCATION:Zoom (link in dashboard)
END:VEVENT
BEGIN:VEVENT
DTSTART;TZID=America/Toronto:20250821T190000
DTEND;TZID=America/Toronto:20250821T200000
DTSTAMP:20260425T162605
CREATED:20250722T220614Z
LAST-MODIFIED:20250722T220614Z
UID:10000309-1755802800-1755806400@newbiologyclinic.com
SUMMARY:Group Guided Meditation Session with Dr. Tatiana Agafonova
DESCRIPTION:Join Dr. Tatiana Agafonova for a group guided meditation session \nLength: 1 hour \n-Please note session times are reflected in the eastern time zone. \n  \nPlease register for this session through your member dashboard under Appointments\, then select Dr. Tatiana Agafonova.
URL:https://newbiologyclinic.com/events/group-guided-meditation-session-with-dr-tatiana-agafonova-17/
LOCATION:Zoom (link in dashboard)
END:VEVENT
BEGIN:VEVENT
DTSTART;TZID=America/Toronto:20250816T150000
DTEND;TZID=America/Toronto:20250816T160000
DTSTAMP:20260425T162605
CREATED:20250722T220036Z
LAST-MODIFIED:20250722T220036Z
UID:10000308-1755356400-1755360000@newbiologyclinic.com
SUMMARY:Group Breathing- Integration Session with Dr. Tatiana Agafonova
DESCRIPTION:Join Dr. Tatiana Agafonova for a group breathing integration session \nLength: 1 hour \n-Please note session times are reflected in the eastern time zone. \n  \nPlease register for this session through your member dashboard under Appointments\, then select Dr. Tatiana Agafonova.
URL:https://newbiologyclinic.com/events/group-breathing-integration-session-with-dr-tatiana-agafonova-16/
LOCATION:Zoom (link in dashboard)
END:VEVENT
BEGIN:VEVENT
DTSTART;TZID=America/Toronto:20250805T190000
DTEND;TZID=America/Toronto:20250805T200000
DTSTAMP:20260425T162605
CREATED:20250722T215901Z
LAST-MODIFIED:20250722T215901Z
UID:10000307-1754420400-1754424000@newbiologyclinic.com
SUMMARY:Group Biofield Tuning with Dr. Tatiana Agafonova
DESCRIPTION:Join Dr. Tatiana Agafonova for a group biofield tuning session \nLength: 1 hour \n-Please note session times are reflected in the eastern time zone. \n  \nPlease register for this session through your member dashboard under Appointments\, then select Dr. Tatiana Agafonova.
URL:https://newbiologyclinic.com/events/group-biofield-tuning-with-dr-tatiana-agafonova-18/
LOCATION:Zoom (link in dashboard)
END:VEVENT
BEGIN:VEVENT
DTSTART;TZID=America/Toronto:20250726T150000
DTEND;TZID=America/Toronto:20250726T160000
DTSTAMP:20260425T162605
CREATED:20250527T184621Z
LAST-MODIFIED:20250627T183307Z
UID:10000261-1753542000-1753545600@newbiologyclinic.com
SUMMARY:Group Breathing- Integration Session with Dr. Tatiana Agafonova
DESCRIPTION:Join Dr. Tatiana Agafonova for a group breathing integration session \nLength: 1 hour \n-Please note session times are reflected in the eastern time zone. \n  \nPlease register for this session through your member dashboard under Appointments\, then select Dr. Tatiana Agafonova.
URL:https://newbiologyclinic.com/events/group-breathing-integration-session-with-dr-tatiana-agafonova-15/
LOCATION:Zoom (link in dashboard)
END:VEVENT
BEGIN:VEVENT
DTSTART;TZID=America/Toronto:20250717T190000
DTEND;TZID=America/Toronto:20250717T200000
DTSTAMP:20260425T162605
CREATED:20250627T183143Z
LAST-MODIFIED:20250627T183143Z
UID:10000283-1752778800-1752782400@newbiologyclinic.com
SUMMARY:Group Guided Meditation Session with Dr. Tatiana Agafonova
DESCRIPTION:Join Dr. Tatiana Agafonova for a group guided meditation session \nLength: 1 hour \n-Please note session times are reflected in the eastern time zone. \n  \nPlease register for this session through your member dashboard under Appointments\, then select Dr. Tatiana Agafonova.
URL:https://newbiologyclinic.com/events/group-guided-meditation-session-with-dr-tatiana-agafonova-16/
LOCATION:Zoom (link in dashboard)
END:VEVENT
BEGIN:VEVENT
DTSTART;TZID=America/Toronto:20250708T190000
DTEND;TZID=America/Toronto:20250708T200000
DTSTAMP:20260425T162606
CREATED:20250627T182944Z
LAST-MODIFIED:20250627T182944Z
UID:10000282-1752001200-1752004800@newbiologyclinic.com
SUMMARY:Group Biofield Tuning with Dr. Tatiana Agafonova
DESCRIPTION:Join Dr. Tatiana Agafonova for a group biofield tuning session \nLength: 1 hour \n-Please note session times are reflected in the eastern time zone. \n  \nPlease register for this session through your member dashboard under Appointments\, then select Dr. Tatiana Agafonova.
URL:https://newbiologyclinic.com/events/group-biofield-tuning-with-dr-tatiana-agafonova-17/
LOCATION:Zoom (link in dashboard)
END:VEVENT
BEGIN:VEVENT
DTSTART;TZID=America/Toronto:20250619T190000
DTEND;TZID=America/Toronto:20250619T200000
DTSTAMP:20260425T162606
CREATED:20250527T174407Z
LAST-MODIFIED:20250527T174407Z
UID:10000260-1750359600-1750363200@newbiologyclinic.com
SUMMARY:Group Guided Meditation Session with Dr. Tatiana Agafonova
DESCRIPTION:Join Dr. Tatiana Agafonova for a group guided meditation session \nLength: 1 hour \n-Please note session times are reflected in the eastern time zone. \n  \nPlease register for this session through your member dashboard under Appointments\, then select Dr. Tatiana Agafonova.
URL:https://newbiologyclinic.com/events/group-guided-meditation-session-with-dr-tatiana-agafonova-15/
LOCATION:Zoom (link in dashboard)
END:VEVENT
BEGIN:VEVENT
DTSTART;TZID=America/Toronto:20250610T190000
DTEND;TZID=America/Toronto:20250610T200000
DTSTAMP:20260425T162606
CREATED:20250527T174227Z
LAST-MODIFIED:20250527T174227Z
UID:10000259-1749582000-1749585600@newbiologyclinic.com
SUMMARY:Group Biofield Tuning with Dr. Tatiana Agafonova
DESCRIPTION:Join Dr. Tatiana Agafonova for a group biofield tuning session \nLength: 1 hour \n-Please note session times are reflected in the eastern time zone. \n  \nPlease register for this session through your member dashboard under Appointments\, then select Dr. Tatiana Agafonova.
URL:https://newbiologyclinic.com/events/group-biofield-tuning-with-dr-tatiana-agafonova-16/
LOCATION:Zoom (link in dashboard)
END:VEVENT
BEGIN:VEVENT
DTSTART;TZID=America/Toronto:20250515T190000
DTEND;TZID=America/Toronto:20250515T200000
DTSTAMP:20260425T162606
CREATED:20250425T230019Z
LAST-MODIFIED:20250425T230019Z
UID:10000240-1747335600-1747339200@newbiologyclinic.com
SUMMARY:Group Guided Meditation Session with Dr. Tatiana Agafonova
DESCRIPTION:Join Dr. Tatiana Agafonova for a group guided meditation session \nLength: 1 hour \n-Please note session times are reflected in the eastern time zone. \n  \nPlease register for this session through your member dashboard under Appointments\, then select Dr. Tatiana Agafonova.
URL:https://newbiologyclinic.com/events/group-guided-meditation-session-with-dr-tatiana-agafonova-14/
LOCATION:Zoom (link in dashboard)
END:VEVENT
BEGIN:VEVENT
DTSTART;TZID=America/Toronto:20250506T190000
DTEND;TZID=America/Toronto:20250506T200000
DTSTAMP:20260425T162606
CREATED:20250425T225859Z
LAST-MODIFIED:20250425T225859Z
UID:10000239-1746558000-1746561600@newbiologyclinic.com
SUMMARY:Group Biofield Tuning with Dr. Tatiana Agafonova
DESCRIPTION:Join Dr. Tatiana Agafonova for a group biofield tuning session \nLength: 1 hour \n-Please note session times are reflected in the eastern time zone. \n  \nPlease register for this session through your member dashboard under Appointments\, then select Dr. Tatiana Agafonova.
URL:https://newbiologyclinic.com/events/group-biofield-tuning-with-dr-tatiana-agafonova-15/
LOCATION:Zoom (link in dashboard)
END:VEVENT
BEGIN:VEVENT
DTSTART;TZID=America/Toronto:20250503T150000
DTEND;TZID=America/Toronto:20250503T160000
DTSTAMP:20260425T162606
CREATED:20250425T230128Z
LAST-MODIFIED:20250425T230128Z
UID:10000241-1746284400-1746288000@newbiologyclinic.com
SUMMARY:Group Breathing- Integration Session with Dr. Tatiana Agafonova
DESCRIPTION:Join Dr. Tatiana Agafonova for a group breathing integration session \nLength: 1 hour \n-Please note session times are reflected in the eastern time zone. \n  \nPlease register for this session through your member dashboard under Appointments\, then select Dr. Tatiana Agafonova.
URL:https://newbiologyclinic.com/events/group-breathing-integration-session-with-dr-tatiana-agafonova-14/
LOCATION:Zoom (link in dashboard)
END:VEVENT
BEGIN:VEVENT
DTSTART;TZID=America/Toronto:20250426T150000
DTEND;TZID=America/Toronto:20250426T160000
DTSTAMP:20260425T162606
CREATED:20250326T200219Z
LAST-MODIFIED:20250326T200219Z
UID:10000221-1745679600-1745683200@newbiologyclinic.com
SUMMARY:Group Breathing- Integration Session with Dr. Tatiana Agafonova
DESCRIPTION:Join Dr. Tatiana Agafonova for a group breathing integration session \nLength: 1 hour \n-Please note session times are reflected in the eastern time zone. \n  \nPlease register for this session through your member dashboard under Appointments\, then select Dr. Tatiana Agafonova.
URL:https://newbiologyclinic.com/events/group-breathing-integration-session-with-dr-tatiana-agafonova-13/
LOCATION:Zoom (link in dashboard)
END:VEVENT
BEGIN:VEVENT
DTSTART;TZID=America/Toronto:20250417T190000
DTEND;TZID=America/Toronto:20250417T200000
DTSTAMP:20260425T162606
CREATED:20250326T200114Z
LAST-MODIFIED:20250326T200114Z
UID:10000220-1744916400-1744920000@newbiologyclinic.com
SUMMARY:Group Guided Meditation Session with Dr. Tatiana Agafonova
DESCRIPTION:Join Dr. Tatiana Agafonova for a group guided meditation session \nLength: 1 hour \n-Please note session times are reflected in the eastern time zone. \n  \nPlease register for this session through your member dashboard under Appointments\, then select Dr. Tatiana Agafonova.
URL:https://newbiologyclinic.com/events/group-guided-meditation-session-with-dr-tatiana-agafonova-13/
LOCATION:Zoom (link in dashboard)
END:VEVENT
BEGIN:VEVENT
DTSTART;TZID=America/Toronto:20250408T190000
DTEND;TZID=America/Toronto:20250408T200000
DTSTAMP:20260425T162606
CREATED:20250326T200011Z
LAST-MODIFIED:20250326T200011Z
UID:10000219-1744138800-1744142400@newbiologyclinic.com
SUMMARY:Group Biofield Tuning with Dr. Tatiana Agafonova
DESCRIPTION:Join Dr. Tatiana Agafonova for a group biofield tuning session \nLength: 1 hour \n-Please note session times are reflected in the eastern time zone. \n  \nPlease register for this session through your member dashboard under Appointments\, then select Dr. Tatiana Agafonova.
URL:https://newbiologyclinic.com/events/group-biofield-tuning-with-dr-tatiana-agafonova-14/
LOCATION:Zoom (link in dashboard)
END:VEVENT
BEGIN:VEVENT
DTSTART;TZID=America/Toronto:20250325T190000
DTEND;TZID=America/Toronto:20250325T200000
DTSTAMP:20260425T162606
CREATED:20250224T220902Z
LAST-MODIFIED:20250224T220902Z
UID:10000198-1742929200-1742932800@newbiologyclinic.com
SUMMARY:Group Biofield Tuning with Dr. Tatiana Agafonova
DESCRIPTION:Join Dr. Tatiana Agafonova for a group biofield tuning session \nLength: 1 hour \n-Please note session times are reflected in the eastern time zone. \n  \nPlease register for this session through your member dashboard under Appointments\, then select Dr. Tatiana Agafonova.
URL:https://newbiologyclinic.com/events/group-biofield-tuning-with-dr-tatiana-agafonova-13/
LOCATION:Zoom (link in dashboard)
END:VEVENT
BEGIN:VEVENT
DTSTART;TZID=America/Toronto:20250320T190000
DTEND;TZID=America/Toronto:20250320T200000
DTSTAMP:20260425T162606
CREATED:20250224T220705Z
LAST-MODIFIED:20250224T220705Z
UID:10000197-1742497200-1742500800@newbiologyclinic.com
SUMMARY:Group Guided Meditation Session with Dr. Tatiana Agafonova
DESCRIPTION:Join Dr. Tatiana Agafonova for a group guided meditation session \nLength: 1 hour \n-Please note session times are reflected in the eastern time zone. \n  \nPlease register for this session through your member dashboard under Appointments\, then select Dr. Tatiana Agafonova.
URL:https://newbiologyclinic.com/events/group-guided-meditation-session-with-dr-tatiana-agafonova-12/
LOCATION:Zoom (link in dashboard)
END:VEVENT
BEGIN:VEVENT
DTSTART;TZID=America/Toronto:20250315T150000
DTEND;TZID=America/Toronto:20250315T160000
DTSTAMP:20260425T162606
CREATED:20250224T220555Z
LAST-MODIFIED:20250224T220555Z
UID:10000196-1742050800-1742054400@newbiologyclinic.com
SUMMARY:Group Breathing- Integration Session with Dr. Tatiana Agafonova
DESCRIPTION:Join Dr. Tatiana Agafonova for a group breathing integration session \nLength: 1 hour \n-Please note session times are reflected in the eastern time zone. \n  \nPlease register for this session through your member dashboard under Appointments\, then select Dr. Tatiana Agafonova.
URL:https://newbiologyclinic.com/events/group-breathing-integration-session-with-dr-tatiana-agafonova-12/
LOCATION:Zoom (link in dashboard)
END:VEVENT
BEGIN:VEVENT
DTSTART;TZID=America/Toronto:20250227T190000
DTEND;TZID=America/Toronto:20250227T200000
DTSTAMP:20260425T162606
CREATED:20250123T142820Z
LAST-MODIFIED:20250123T142820Z
UID:10000180-1740682800-1740686400@newbiologyclinic.com
SUMMARY:Group Guided Meditation Session with Dr. Tatiana Agafonova
DESCRIPTION:Join Dr. Tatiana Agafonova for a group guided meditation session \nLength: 1 hour \n-Please note session times are reflected in the eastern time zone. \n  \nPlease register for this session through your member dashboard under Appointments\, then select Dr. Tatiana Agafonova.
URL:https://newbiologyclinic.com/events/group-guided-meditation-session-with-dr-tatiana-agafonova-11/
LOCATION:Zoom (link in dashboard)
END:VEVENT
END:VCALENDAR