BEGIN:VCALENDAR
VERSION:2.0
PRODID:-//New Biology Clinic - ECPv6.15.20//NONSGML v1.0//EN
CALSCALE:GREGORIAN
METHOD:PUBLISH
X-WR-CALNAME:New Biology Clinic
X-ORIGINAL-URL:https://newbiologyclinic.com
X-WR-CALDESC:Events for New Biology Clinic
REFRESH-INTERVAL;VALUE=DURATION:PT1H
X-Robots-Tag:noindex
X-PUBLISHED-TTL:PT1H
BEGIN:VTIMEZONE
TZID:America/Toronto
BEGIN:DAYLIGHT
TZOFFSETFROM:-0500
TZOFFSETTO:-0400
TZNAME:EDT
DTSTART:20220313T070000
END:DAYLIGHT
BEGIN:STANDARD
TZOFFSETFROM:-0400
TZOFFSETTO:-0500
TZNAME:EST
DTSTART:20221106T060000
END:STANDARD
BEGIN:DAYLIGHT
TZOFFSETFROM:-0500
TZOFFSETTO:-0400
TZNAME:EDT
DTSTART:20230312T070000
END:DAYLIGHT
BEGIN:STANDARD
TZOFFSETFROM:-0400
TZOFFSETTO:-0500
TZNAME:EST
DTSTART:20231105T060000
END:STANDARD
BEGIN:DAYLIGHT
TZOFFSETFROM:-0500
TZOFFSETTO:-0400
TZNAME:EDT
DTSTART:20240310T070000
END:DAYLIGHT
BEGIN:STANDARD
TZOFFSETFROM:-0400
TZOFFSETTO:-0500
TZNAME:EST
DTSTART:20241103T060000
END:STANDARD
BEGIN:DAYLIGHT
TZOFFSETFROM:-0500
TZOFFSETTO:-0400
TZNAME:EDT
DTSTART:20250309T070000
END:DAYLIGHT
BEGIN:STANDARD
TZOFFSETFROM:-0400
TZOFFSETTO:-0500
TZNAME:EST
DTSTART:20251102T060000
END:STANDARD
END:VTIMEZONE
BEGIN:VEVENT
DTSTART;TZID=America/Toronto:20241214T150000
DTEND;TZID=America/Toronto:20241214T160000
DTSTAMP:20260425T223312
CREATED:20241120T220317Z
LAST-MODIFIED:20241120T220317Z
UID:10000139-1734188400-1734192000@newbiologyclinic.com
SUMMARY:Group Breathing- Integration Session with Dr. Tatiana Agafonova
DESCRIPTION:Join Dr. Tatiana Agafonova for a group breathing integration session \nLength: 1 hour \n-Please note session times are reflected in the eastern time zone. \n  \nPlease register for this session through your member dashboard under Appointments\, then select Dr. Tatiana Agafonova.
URL:https://newbiologyclinic.com/events/group-breathing-integration-session-with-dr-tatiana-agafonova-7/
LOCATION:Zoom (link in dashboard)
END:VEVENT
BEGIN:VEVENT
DTSTART;TZID=America/Toronto:20241203T190000
DTEND;TZID=America/Toronto:20241203T200000
DTSTAMP:20260425T223312
CREATED:20241120T215835Z
LAST-MODIFIED:20241120T215835Z
UID:10000137-1733252400-1733256000@newbiologyclinic.com
SUMMARY:Group Biofield Tuning with Dr. Tatiana Agafonova
DESCRIPTION:Join Dr. Tatiana Agafonova for a group biofield tuning session \nLength: 1 hour \n-Please note session times are reflected in the eastern time zone. \n  \nPlease register for this session through your member dashboard under Appointments\, then select Dr. Tatiana Agafonova.
URL:https://newbiologyclinic.com/events/group-biofield-tuning-with-dr-tatiana-agafonova-8/
LOCATION:Zoom (link in dashboard)
END:VEVENT
BEGIN:VEVENT
DTSTART;TZID=America/Toronto:20241121T190000
DTEND;TZID=America/Toronto:20241121T200000
DTSTAMP:20260425T223312
CREATED:20241021T221245Z
LAST-MODIFIED:20241021T221245Z
UID:10000118-1732215600-1732219200@newbiologyclinic.com
SUMMARY:Group Guided Meditation Session with Dr. Tatiana Agafonova
DESCRIPTION:Join Dr. Tatiana Agafonova for a group guided meditation session \nLength: 1 hour \n-Please note session times are reflected in the eastern time zone. \n  \nPlease register for this session through your member dashboard under Appointments\, then select Dr. Tatiana Agafonova.
URL:https://newbiologyclinic.com/events/group-guided-meditation-session-with-dr-tatiana-agafonova-8/
LOCATION:Zoom (link in dashboard)
END:VEVENT
BEGIN:VEVENT
DTSTART;TZID=America/Toronto:20241112T190000
DTEND;TZID=America/Toronto:20241112T200000
DTSTAMP:20260425T223312
CREATED:20241021T221135Z
LAST-MODIFIED:20241021T221135Z
UID:10000117-1731438000-1731441600@newbiologyclinic.com
SUMMARY:Group Biofield Tuning with Dr. Tatiana Agafonova
DESCRIPTION:Join Dr. Tatiana Agafonova for a group biofield tuning session \nLength: 1 hour \n-Please note session times are reflected in the eastern time zone. \n  \nPlease register for this session through your member dashboard under Appointments\, then select Dr. Tatiana Agafonova.
URL:https://newbiologyclinic.com/events/group-biofield-tuning-with-dr-tatiana-agafonova-7/
LOCATION:Zoom (link in dashboard)
END:VEVENT
BEGIN:VEVENT
DTSTART;TZID=America/Toronto:20241109T150000
DTEND;TZID=America/Toronto:20241109T160000
DTSTAMP:20260425T223312
CREATED:20241021T220958Z
LAST-MODIFIED:20241021T220958Z
UID:10000116-1731164400-1731168000@newbiologyclinic.com
SUMMARY:Group Breathing- Integration Session with Dr. Tatiana Agafonova
DESCRIPTION:Join Dr. Tatiana Agafonova for a group breathing integration session \nLength: 1 hour \n-Please note session times are reflected in the eastern time zone. \n  \nPlease register for this session through your member dashboard under Appointments\, then select Dr. Tatiana Agafonova.
URL:https://newbiologyclinic.com/events/group-breathing-integration-session-with-dr-tatiana-agafonova-6/
LOCATION:Zoom (link in dashboard)
END:VEVENT
BEGIN:VEVENT
DTSTART;TZID=America/Toronto:20241017T190000
DTEND;TZID=America/Toronto:20241017T200000
DTSTAMP:20260425T223312
CREATED:20240923T222010Z
LAST-MODIFIED:20240923T222010Z
UID:10000098-1729191600-1729195200@newbiologyclinic.com
SUMMARY:Group Guided Meditation Session with Dr. Tatiana Agafonova
DESCRIPTION:Join Dr. Tatiana Agafonova for a group guided meditation session \nLength: 1 hour \n-Please note session times are reflected in the eastern time zone. \n  \nPlease register for this session through your member dashboard under Appointments\, then select Dr. Tatiana Agafonova.
URL:https://newbiologyclinic.com/events/group-guided-meditation-session-with-dr-tatiana-agafonova-4/
LOCATION:Zoom (link in dashboard)
END:VEVENT
BEGIN:VEVENT
DTSTART;TZID=America/Toronto:20241001T190000
DTEND;TZID=America/Toronto:20241001T200000
DTSTAMP:20260425T223312
CREATED:20240923T221655Z
LAST-MODIFIED:20240923T221808Z
UID:10000097-1727809200-1727812800@newbiologyclinic.com
SUMMARY:Group Biofield Tuning with Dr. Tatiana Agafonova
DESCRIPTION:Join Dr. Tatiana Agafonova for a group biofield tuning session \nLength: 1 hour \n-Please note session times are reflected in the eastern time zone. \n  \nPlease register for this session through your member dashboard under Appointments\, then select Dr. Tatiana Agafonova.
URL:https://newbiologyclinic.com/events/group-biofield-tuning-with-dr-tatiana-agafonova-6/
LOCATION:Zoom (link in dashboard)
END:VEVENT
BEGIN:VEVENT
DTSTART;TZID=America/Toronto:20240919T190000
DTEND;TZID=America/Toronto:20240919T195500
DTSTAMP:20260425T223312
CREATED:20240816T031043Z
LAST-MODIFIED:20240905T212234Z
UID:10000076-1726772400-1726775700@newbiologyclinic.com
SUMMARY:Group Guided Meditation Session with Dr. Tatiana Agafonova
DESCRIPTION:Join Dr. Tatiana Agafonova for a group guided meditation session \nLength: 1 hour \n-Please note session times are reflected in the eastern time zone. \n  \nPlease register for this session through your member dashboard under Appointments\, then select Dr. Tatiana Agafonova.
URL:https://newbiologyclinic.com/events/group-guided-meditation-session-with-dr-tatiana-agafonova-3/
LOCATION:Zoom (link in dashboard)
END:VEVENT
BEGIN:VEVENT
DTSTART;TZID=America/Toronto:20240914T150000
DTEND;TZID=America/Toronto:20240914T155500
DTSTAMP:20260425T223312
CREATED:20240816T030802Z
LAST-MODIFIED:20240905T212724Z
UID:10000075-1726326000-1726329300@newbiologyclinic.com
SUMMARY:Group Breathing- Integration Session with Dr. Tatiana Agafonova
DESCRIPTION:Join Dr. Tatiana Agafonova for a group breathing integration session \nLength: 1 hour \n-Please note session times are reflected in the eastern time zone. \n  \nPlease register for this session through your member dashboard under Appointments\, then select Dr. Tatiana Agafonova.
URL:https://newbiologyclinic.com/events/group-breathing-integration-session-with-dr-tatiana-agafonova-5/
LOCATION:Zoom (link in dashboard)
END:VEVENT
BEGIN:VEVENT
DTSTART;TZID=America/Toronto:20240903T190000
DTEND;TZID=America/Toronto:20240903T195500
DTSTAMP:20260425T223312
CREATED:20240816T030602Z
LAST-MODIFIED:20240905T213314Z
UID:10000074-1725390000-1725393300@newbiologyclinic.com
SUMMARY:Group Biofield Tuning with Dr. Tatiana Agafonova
DESCRIPTION:Join Dr. Tatiana Agafonova for a group biofield tuning session \nLength: 1 hour \n-Please note session times are reflected in the eastern time zone. \n  \nPlease register for this session through your member dashboard under Appointments\, then select Dr. Tatiana Agafonova.
URL:https://newbiologyclinic.com/events/group-biofield-tuning-with-dr-tatiana-agafonova-5/
LOCATION:Zoom (link in dashboard)
END:VEVENT
BEGIN:VEVENT
DTSTART;TZID=America/Toronto:20240227T190000
DTEND;TZID=America/Toronto:20240227T195500
DTSTAMP:20260425T223312
CREATED:20240123T053747Z
LAST-MODIFIED:20240123T053747Z
UID:10000058-1709060400-1709063700@newbiologyclinic.com
SUMMARY:Group Breathing- Integration Session with Dr. Tatiana Agafonova
DESCRIPTION:Join Dr. Tatiana Agafonova for a group breathing integration session  \nLength: 1 hour  \nPlease register for this session through your member dashboard under Appointments\, then select Dr. Tatiana Agafonova.
URL:https://newbiologyclinic.com/events/group-breathing-integration-session-with-dr-tatiana-agafonova-4/
LOCATION:Zoom (link in dashboard)
END:VEVENT
BEGIN:VEVENT
DTSTART;TZID=America/Toronto:20240224T120000
DTEND;TZID=America/Toronto:20240224T125500
DTSTAMP:20260425T223312
CREATED:20240123T053630Z
LAST-MODIFIED:20240123T053630Z
UID:10000057-1708776000-1708779300@newbiologyclinic.com
SUMMARY:Group Biofield Tuning with Dr. Tatiana Agafonova
DESCRIPTION:Join Dr. Tatiana Agafonova for a group biofield tuning session  \nLength: 1 hour  \nPlease register for this session through your member dashboard under Appointments\, then select Dr. Tatiana Agafonova.
URL:https://newbiologyclinic.com/events/group-biofield-tuning-with-dr-tatiana-agafonova-4/
LOCATION:Zoom (link in dashboard)
END:VEVENT
BEGIN:VEVENT
DTSTART;TZID=America/Toronto:20240215T190000
DTEND;TZID=America/Toronto:20240215T195500
DTSTAMP:20260425T223312
CREATED:20240123T053500Z
LAST-MODIFIED:20240123T053500Z
UID:10000056-1708023600-1708026900@newbiologyclinic.com
SUMMARY:Group Guided Meditation Session with Dr. Tatiana Agafonova
DESCRIPTION:Join Dr. Tatiana Agafonova for a group guided meditation session  \nLength: 1 hour  \nPlease register for this session through your member dashboard under Appointments\, then select Dr. Tatiana Agafonova.
URL:https://newbiologyclinic.com/events/group-guided-meditation-session-with-dr-tatiana-agafonova-2/
LOCATION:Zoom (link in dashboard)
END:VEVENT
BEGIN:VEVENT
DTSTART;TZID=America/Toronto:20240205T190000
DTEND;TZID=America/Toronto:20240205T195500
DTSTAMP:20260425T223312
CREATED:20240123T053326Z
LAST-MODIFIED:20240123T053326Z
UID:10000055-1707159600-1707162900@newbiologyclinic.com
SUMMARY:Group Biofield Tuning with Dr. Tatiana Agafonova
DESCRIPTION:Join Dr. Tatiana Agafonova for a group biofield tuning session  \nLength: 1 hour  \nPlease register for this session through your member dashboard under Appointments\, then select Dr. Tatiana Agafonova.
URL:https://newbiologyclinic.com/events/group-biofield-tuning-with-dr-tatiana-agafonova-3/
LOCATION:Zoom (link in dashboard)
END:VEVENT
BEGIN:VEVENT
DTSTART;TZID=America/Toronto:20240203T150000
DTEND;TZID=America/Toronto:20240203T155500
DTSTAMP:20260425T223312
CREATED:20231230T042241Z
LAST-MODIFIED:20240111T073525Z
UID:10000033-1706972400-1706975700@newbiologyclinic.com
SUMMARY:Group Breathing- Integration Session with Dr. Tatiana Agafonova
DESCRIPTION:Join Dr. Tatiana Agafonova for a group breathing integration session  \nLength: 1 hour  \nPlease register for this session through your member dashboard under appointments\, then select Dr. Tatiana Agafonova.
URL:https://newbiologyclinic.com/events/group-breathing-integration-session-with-dr-tatiana-agafonova-3/
LOCATION:Zoom (link in dashboard)
END:VEVENT
BEGIN:VEVENT
DTSTART;TZID=America/Toronto:20240123T190000
DTEND;TZID=America/Toronto:20240123T195500
DTSTAMP:20260425T223312
CREATED:20231230T041839Z
LAST-MODIFIED:20240111T073457Z
UID:10000032-1706036400-1706039700@newbiologyclinic.com
SUMMARY:Group Biofield Tuning with Dr. Tatiana Agafonova
DESCRIPTION:Join Dr. Tatiana Agafonova for a group biofield tuning session  \nLength: 1 hour  \nPlease register for this session through your member dashboard under appointments\, then select Dr. Tatiana Agafonova.
URL:https://newbiologyclinic.com/events/group-biofield-tuning-with-dr-tatiana-agafonova-2/
LOCATION:Zoom (link in dashboard)
END:VEVENT
BEGIN:VEVENT
DTSTART;TZID=America/Toronto:20240120T150000
DTEND;TZID=America/Toronto:20240120T155500
DTSTAMP:20260425T223312
CREATED:20231230T041720Z
LAST-MODIFIED:20240111T073435Z
UID:10000031-1705762800-1705766100@newbiologyclinic.com
SUMMARY:Group Breathing- Integration Session with Dr. Tatiana Agafonova
DESCRIPTION:Join Dr. Tatiana Agafonova for a group breathing integration session  \nLength: 1 hour  \nPlease register for this session through your member dashboard under appointments\, then select Dr. Tatiana Agafonova.
URL:https://newbiologyclinic.com/events/group-breathing-integration-session-with-dr-tatiana-agafonova-2/
LOCATION:Zoom (link in dashboard)
END:VEVENT
BEGIN:VEVENT
DTSTART;TZID=America/Toronto:20240118T190000
DTEND;TZID=America/Toronto:20240118T195500
DTSTAMP:20260425T223312
CREATED:20231230T041547Z
LAST-MODIFIED:20240111T073412Z
UID:10000030-1705604400-1705607700@newbiologyclinic.com
SUMMARY:Group Guided Meditation Session with Dr. Tatiana Agafonova
DESCRIPTION:Join Dr. Tatiana Agafonova for a group guided meditation session  \nLength: 1 hour  \nPlease register for this session through your member dashboard under appointments\, then select Dr. Tatiana Agafonova.
URL:https://newbiologyclinic.com/events/group-guided-meditation-session-with-dr-tatiana-agafonova/
LOCATION:Zoom (link in dashboard)
END:VEVENT
BEGIN:VEVENT
DTSTART;TZID=America/Toronto:20240113T120000
DTEND;TZID=America/Toronto:20240113T125500
DTSTAMP:20260425T223312
CREATED:20231230T041412Z
LAST-MODIFIED:20240111T073347Z
UID:10000029-1705147200-1705150500@newbiologyclinic.com
SUMMARY:Group Biofield Tuning with Dr. Tatiana Agafonova
DESCRIPTION:Join Dr. Tatiana Agafonova for a group biofield tuning session  \nLength: 1 hour  \nPlease register for this session through your member dashboard under appointments\, then select Dr. Tatiana Agafonova.
URL:https://newbiologyclinic.com/events/group-biofield-tuning-with-dr-tatiana-agafonova/
LOCATION:Zoom (link in dashboard)
END:VEVENT
BEGIN:VEVENT
DTSTART;TZID=America/Toronto:20240108T190000
DTEND;TZID=America/Toronto:20240108T195500
DTSTAMP:20260425T223312
CREATED:20231230T041210Z
LAST-MODIFIED:20231230T041210Z
UID:10000028-1704740400-1704743700@newbiologyclinic.com
SUMMARY:Group Breathing- Integration Session with Dr. Tatiana Agafonova
DESCRIPTION:Join Dr. Tatiana Agafonova for a group breathing integration session  \nLength: 1 hour  \nZoom meeting link provided in member dashboard
URL:https://newbiologyclinic.com/events/group-breathing-integration-session-with-dr-tatiana-agafonova/
LOCATION:Zoom (link in dashboard)
END:VEVENT
BEGIN:VEVENT
DTSTART;TZID=America/Toronto:20231221T190000
DTEND;TZID=America/Toronto:20231221T200000
DTSTAMP:20260425T223312
CREATED:20231201T085355Z
LAST-MODIFIED:20231202T020511Z
UID:10000012-1703185200-1703188800@newbiologyclinic.com
SUMMARY:Winter Solstice Guided Meditation
DESCRIPTION:Join Dr. Tatiana Agafonova for a winter solstice guided meditation \nLength: 1 hour \nZoom meeting link provided in member dashboard
URL:https://newbiologyclinic.com/events/winter-solstice-guided-meditation/
LOCATION:Zoom (link in dashboard)
END:VEVENT
BEGIN:VEVENT
DTSTART;TZID=America/Toronto:20231212T190000
DTEND;TZID=America/Toronto:20231212T200000
DTSTAMP:20260425T223312
CREATED:20231201T085302Z
LAST-MODIFIED:20231202T020601Z
UID:10000011-1702407600-1702411200@newbiologyclinic.com
SUMMARY:Group Biofield Tuning
DESCRIPTION:Join Dr. Tatiana Agafonova for a group biofield tuning session \nLength: 1 hour \nZoom meeting link provided in member dashboard
URL:https://newbiologyclinic.com/events/group-biofield-tuning/
LOCATION:Zoom (link in dashboard)
END:VEVENT
BEGIN:VEVENT
DTSTART;TZID=America/Toronto:20231202T150000
DTEND;TZID=America/Toronto:20231202T160000
DTSTAMP:20260425T223312
CREATED:20231201T085154Z
LAST-MODIFIED:20231202T021233Z
UID:10000010-1701529200-1701532800@newbiologyclinic.com
SUMMARY:Introduction and experience of Breathing Integration
DESCRIPTION:Join Dr. Tatiana Agafonova for a group webinar on breathing integration \nLength: 1 hour \nZoom meeting link provided in member dashboard
URL:https://newbiologyclinic.com/events/introduction-and-experience-of-breathing-integration/
LOCATION:Zoom (link in dashboard)
END:VEVENT
END:VCALENDAR