BEGIN:VCALENDAR
VERSION:2.0
PRODID:-//New Biology Clinic - ECPv6.15.20//NONSGML v1.0//EN
CALSCALE:GREGORIAN
METHOD:PUBLISH
X-WR-CALNAME:New Biology Clinic
X-ORIGINAL-URL:https://newbiologyclinic.com
X-WR-CALDESC:Events for New Biology Clinic
REFRESH-INTERVAL;VALUE=DURATION:PT1H
X-Robots-Tag:noindex
X-PUBLISHED-TTL:PT1H
BEGIN:VTIMEZONE
TZID:America/Toronto
BEGIN:DAYLIGHT
TZOFFSETFROM:-0500
TZOFFSETTO:-0400
TZNAME:EDT
DTSTART:20240310T070000
END:DAYLIGHT
BEGIN:STANDARD
TZOFFSETFROM:-0400
TZOFFSETTO:-0500
TZNAME:EST
DTSTART:20241103T060000
END:STANDARD
BEGIN:DAYLIGHT
TZOFFSETFROM:-0500
TZOFFSETTO:-0400
TZNAME:EDT
DTSTART:20250309T070000
END:DAYLIGHT
BEGIN:STANDARD
TZOFFSETFROM:-0400
TZOFFSETTO:-0500
TZNAME:EST
DTSTART:20251102T060000
END:STANDARD
BEGIN:DAYLIGHT
TZOFFSETFROM:-0500
TZOFFSETTO:-0400
TZNAME:EDT
DTSTART:20260308T070000
END:DAYLIGHT
BEGIN:STANDARD
TZOFFSETFROM:-0400
TZOFFSETTO:-0500
TZNAME:EST
DTSTART:20261101T060000
END:STANDARD
END:VTIMEZONE
BEGIN:VEVENT
DTSTART;TZID=America/Toronto:20251023T171500
DTEND;TZID=America/Toronto:20251023T181500
DTSTAMP:20260425T204702
CREATED:20250924T231717Z
LAST-MODIFIED:20250924T231717Z
UID:10000373-1761239700-1761243300@newbiologyclinic.com
SUMMARY:Marc Grossman\, Vision Specialist: An integrative Medicine Approach to Cataracts
DESCRIPTION:Marc Grossman\, Vision Specialist: An integrative Medicine Approach to Cataracts \nGain skills to enhance your perception of the world and improve your vision with holistic eye-care innovator Dr. Marc Grossman. This eye-opening program\, based on Marc’s book Natural Eye Care\, integrates the art and science of integrative medicine to help protect vision. \nLength: 1 hour \n-Please note session times are reflected in the Eastern time zone. \n  \nPlease register for this session through your member dashboard under appointments\, then select Marc Grossman.
URL:https://newbiologyclinic.com/events/marc-grossman-vision-specialist-an-integrative-medicine-approach-to-cataracts/
LOCATION:Zoom (link in dashboard)
END:VEVENT
BEGIN:VEVENT
DTSTART;TZID=America/Toronto:20250925T171500
DTEND;TZID=America/Toronto:20250925T181500
DTSTAMP:20260425T204702
CREATED:20250826T181555Z
LAST-MODIFIED:20250826T181555Z
UID:10000330-1758820500-1758824100@newbiologyclinic.com
SUMMARY:NEW!! Marc Grossman: Natural Eye Care and Vision Improvement\, Part 2
DESCRIPTION:NEW!!   Marc Grossman: Natural Eye Care and Vision Improvement\, Part 2 \nGain skills to enhance your perception of the world and improve your vision with holistic eye-care innovator Dr. Marc Grossman. This eye-opening program\, based on Marc’s book Natural Eye Care\, integrates the art and science of integrative medicine to help protect vision. \n  \nLength: 1 hour \n-Please note session times are reflected in the Eastern time zone. \n  \nPlease register for this session through your member dashboard under appointments\, then select Marc Grossman.
URL:https://newbiologyclinic.com/events/new-marc-grossman-natural-eye-care-and-vision-improvement-part-2/
LOCATION:Zoom (link in dashboard)
END:VEVENT
BEGIN:VEVENT
DTSTART;TZID=America/Toronto:20250814T171500
DTEND;TZID=America/Toronto:20250814T181500
DTSTAMP:20260425T204702
CREATED:20250723T014504Z
LAST-MODIFIED:20250723T014504Z
UID:10000318-1755191700-1755195300@newbiologyclinic.com
SUMMARY:NEW!! Natural Eye Care\, and Vision improvement with Dr. Marc Grossman
DESCRIPTION:NEW!!   Natural Eye Care\, and Vision improvement with Dr. Marc Grossman \nGain skills to enhance your perception of the world and improve your vision with holistic eye-care innovator Dr. Marc Grossman. This eye-opening program\, based on Marc’s book Natural Eye Care\, integrates the art and science of integrative medicine to help protect vision. \n  \nLength: 1 hour \n-Please note session times are reflected in the Eastern time zone. \n  \nPlease register for this session through your member dashboard under appointments\, then select Marc Grossman.
URL:https://newbiologyclinic.com/events/new-natural-eye-care-and-vision-improvement-with-dr-marc-grossman/
LOCATION:Zoom (link in dashboard)
END:VEVENT
END:VCALENDAR