BEGIN:VCALENDAR
VERSION:2.0
PRODID:-//New Biology Clinic - ECPv6.15.20//NONSGML v1.0//EN
CALSCALE:GREGORIAN
METHOD:PUBLISH
X-ORIGINAL-URL:https://newbiologyclinic.com
X-WR-CALDESC:Events for New Biology Clinic
REFRESH-INTERVAL;VALUE=DURATION:PT1H
X-Robots-Tag:noindex
X-PUBLISHED-TTL:PT1H
BEGIN:VTIMEZONE
TZID:America/Toronto
BEGIN:DAYLIGHT
TZOFFSETFROM:-0500
TZOFFSETTO:-0400
TZNAME:EDT
DTSTART:20240310T070000
END:DAYLIGHT
BEGIN:STANDARD
TZOFFSETFROM:-0400
TZOFFSETTO:-0500
TZNAME:EST
DTSTART:20241103T060000
END:STANDARD
BEGIN:DAYLIGHT
TZOFFSETFROM:-0500
TZOFFSETTO:-0400
TZNAME:EDT
DTSTART:20250309T070000
END:DAYLIGHT
BEGIN:STANDARD
TZOFFSETFROM:-0400
TZOFFSETTO:-0500
TZNAME:EST
DTSTART:20251102T060000
END:STANDARD
BEGIN:DAYLIGHT
TZOFFSETFROM:-0500
TZOFFSETTO:-0400
TZNAME:EDT
DTSTART:20260308T070000
END:DAYLIGHT
BEGIN:STANDARD
TZOFFSETFROM:-0400
TZOFFSETTO:-0500
TZNAME:EST
DTSTART:20261101T060000
END:STANDARD
END:VTIMEZONE
BEGIN:VEVENT
DTSTART;TZID=America/Toronto:20251029T110000
DTEND;TZID=America/Toronto:20251029T120000
DTSTAMP:20260425T160230
CREATED:20250924T224624Z
LAST-MODIFIED:20250924T224624Z
UID:10000366-1761735600-1761739200@newbiologyclinic.com
SUMMARY:GAPS Q & A with Monica Corrado
DESCRIPTION:GAPS Q & A with Monica Corrado \nMonica’s mission is to help you to incorporate the GAPS diet into your life as simply and gracefully as possible.  Come get your questions answered and support each other during this beautiful healing process. \nLength: 1 hour \n-Please note session times are reflected in the Eastern time zone. \n  \nPlease register for this session through your member dashboard under appointments\, then select Monica Corrado.
URL:https://newbiologyclinic.com/events/gaps-q-a-with-monica-corrado-2/
LOCATION:Zoom (link in dashboard)
END:VEVENT
BEGIN:VEVENT
DTSTART;TZID=America/Toronto:20251013T163000
DTEND;TZID=America/Toronto:20251013T173000
DTSTAMP:20260425T160230
CREATED:20250924T224412Z
LAST-MODIFIED:20250924T224412Z
UID:10000365-1760373000-1760376600@newbiologyclinic.com
SUMMARY:Corn Grits! with Monica Corrado
DESCRIPTION:Corn Grits! \nCorn and autumn are natural dance partners! Learn how to make corn grits for breakfast…so they are light\, fluffy\, and easy to digest! We will also make the soaking water that is specific to corn! \nLength: 1 hour \n-Please note session times are reflected in the Eastern time zone. \n  \nPlease register for this session through your member dashboard under appointments\, then select Monica Corrado.
URL:https://newbiologyclinic.com/events/corn-grits-with-monica-corrado/
LOCATION:Zoom (link in dashboard)
END:VEVENT
BEGIN:VEVENT
DTSTART;TZID=America/Toronto:20250925T150000
DTEND;TZID=America/Toronto:20250925T160000
DTSTAMP:20260425T160230
CREATED:20250826T185043Z
LAST-MODIFIED:20250826T185043Z
UID:10000339-1758812400-1758816000@newbiologyclinic.com
SUMMARY:GAPS Q & A with Monica Corrado
DESCRIPTION:GAPS Q & A with Monica Corrado \nMonica’s mission is to help you to incorporate the GAPS diet into your life as simply and gracefully as possible.  Come get your questions answered and support each other during this beautiful healing process.  Monica’s book on the topic can be purchased here:  The Complete Cooking Techniques for the GAPS Diet 2nd Edition by Monica Corrado. \n  \nLength: 1 hour \n-Please note session times are reflected in the Eastern time zone. \n  \nPlease register for this session through your member dashboard under appointments\, then select Monica Corrado.
URL:https://newbiologyclinic.com/events/gaps-q-a-with-monica-corrado/
LOCATION:Zoom (link in dashboard)
END:VEVENT
BEGIN:VEVENT
DTSTART;TZID=America/Toronto:20250908T160000
DTEND;TZID=America/Toronto:20250908T170000
DTSTAMP:20260425T160230
CREATED:20250826T184731Z
LAST-MODIFIED:20250826T184731Z
UID:10000338-1757347200-1757350800@newbiologyclinic.com
SUMMARY:Bieler Broth! with Monica Corrado
DESCRIPTION:Bieler Broth! \nSeptember is a time of transitions for many of us and can be stressful on the body and mind. Learn how to make a time-honored broth that can help you through! \nLength: 1 hour \n-Please note session times are reflected in the Eastern time zone. \n  \nPlease register for this session through your member dashboard under appointments\, then select Monica Corrado.
URL:https://newbiologyclinic.com/events/bieler-broth-with-monica-corrado/
LOCATION:Zoom (link in dashboard)
END:VEVENT
BEGIN:VEVENT
DTSTART;TZID=America/Toronto:20250825T150000
DTEND;TZID=America/Toronto:20250825T160000
DTSTAMP:20260425T160230
CREATED:20250722T215616Z
LAST-MODIFIED:20250722T215616Z
UID:10000306-1756134000-1756137600@newbiologyclinic.com
SUMMARY:NEW!! GAPS Q & A with Monica Corrado
DESCRIPTION:NEW!!    GAPS Q & A with Monica Corrado \nMonica’s mission is to help you to incorporate the GAPS diet into your life as simply and gracefully as possible.  Come get your questions answered and support each other during this beautiful healing process.  Monica’s book on the topic can be purchased here:  The Complete Cooking Techniques for the GAPS Diet 2nd Edition by Monica Corrado. \n  \nLength: 1 hour \n-Please note session times are reflected in the Eastern time zone. \n  \nPlease register for this session through your member dashboard under appointments\, then select Monica Corrado.
URL:https://newbiologyclinic.com/events/new-gaps-q-a-with-monica-corrado-2/
LOCATION:Zoom (link in dashboard)
END:VEVENT
BEGIN:VEVENT
DTSTART;TZID=America/Toronto:20250814T160000
DTEND;TZID=America/Toronto:20250814T170000
DTSTAMP:20260425T160230
CREATED:20250722T215330Z
LAST-MODIFIED:20250722T215330Z
UID:10000305-1755187200-1755190800@newbiologyclinic.com
SUMMARY:Foods for Late Summer - Quinoa and Sprouted Rice! with Monica Corrado
DESCRIPTION:Foods for Late Summer – Quinoa and Sprouted Rice! \nLearn easy techniques that make quinoa and rice easier to digest! Quinoa may be a “super grain”\, but it can cause super havoc to the digestive system if it is not soaked prior to cooking! Love rice? Germinated rice is so easy to digest! Learn these two techniques just in time to nourish your stomach and spleen through late summer! \nLength: 1 hour \n-Please note session times are reflected in the Eastern time zone. \n  \nPlease register for this session through your member dashboard under appointments\, then select Monica Corrado.
URL:https://newbiologyclinic.com/events/foods-for-late-summer-quinoa-and-sprouted-rice-with-monica-corrado/
LOCATION:Zoom (link in dashboard)
END:VEVENT
BEGIN:VEVENT
DTSTART;TZID=America/Toronto:20250721T120000
DTEND;TZID=America/Toronto:20250721T130000
DTSTAMP:20260425T160230
CREATED:20250627T182211Z
LAST-MODIFIED:20250627T182211Z
UID:10000280-1753099200-1753102800@newbiologyclinic.com
SUMMARY:Here’s to a Sprouting-Good Summer with Monica Corrado
DESCRIPTION:Here’s to a Sprouting-Good  Summer! \nLength: 1 hour \n-Please note session times are reflected in the Eastern time zone. \n  \nPlease register for this session through your member dashboard under appointments\, then select Monica Corrado.
URL:https://newbiologyclinic.com/events/heres-to-a-sprouting-good-summer-with-monica-corrado/
LOCATION:Zoom (link in dashboard)
END:VEVENT
BEGIN:VEVENT
DTSTART;TZID=America/Toronto:20250710T160000
DTEND;TZID=America/Toronto:20250710T170000
DTSTAMP:20260425T160230
CREATED:20250627T182704Z
LAST-MODIFIED:20250627T182704Z
UID:10000281-1752163200-1752166800@newbiologyclinic.com
SUMMARY:NEW!! GAPS Q & A with Monica Corrado
DESCRIPTION:NEW!!    GAPS Q & A with Monica Corrado \nMonica’s mission is to help you to incorporate the GAPS diet into your life as simply and gracefully as possible.  Come get your questions answered and support each other during this beautiful healing process.  Monica’s book on the topic can be purchased here:  The Complete Cooking Techniques for the GAPS Diet 2nd Edition by Monica Corrado. \n  \nLength: 1 hour \n-Please note session times are reflected in the Eastern time zone. \n  \nPlease register for this session through your member dashboard under appointments\, then select Monica Corrado.
URL:https://newbiologyclinic.com/events/new-gaps-q-a-with-monica-corrado/
LOCATION:Zoom (link in dashboard)
END:VEVENT
BEGIN:VEVENT
DTSTART;TZID=America/Toronto:20250623T120000
DTEND;TZID=America/Toronto:20250623T130000
DTSTAMP:20260425T160230
CREATED:20250527T173955Z
LAST-MODIFIED:20250527T173955Z
UID:10000258-1750680000-1750683600@newbiologyclinic.com
SUMMARY:Q&A with Monica Corrado: Ask the Nutrition Specialist! (or Ask The Chef)!
DESCRIPTION:This is a live Q & A with Monica Corrado about all things food – sourcing\, preparing\, etc.! \nLength: 1 hour \n-Please note session times are reflected in the Eastern time zone. \n  \nPlease register for this session through your member dashboard under appointments\, then select Monica Corrado.
URL:https://newbiologyclinic.com/events/qa-with-monica-corrado-ask-the-nutrition-specialist-or-ask-the-chef/
LOCATION:Zoom (link in dashboard)
END:VEVENT
END:VCALENDAR