BEGIN:VCALENDAR
VERSION:2.0
PRODID:-//New Biology Clinic - ECPv6.15.20//NONSGML v1.0//EN
CALSCALE:GREGORIAN
METHOD:PUBLISH
X-WR-CALNAME:New Biology Clinic
X-ORIGINAL-URL:https://newbiologyclinic.com
X-WR-CALDESC:Events for New Biology Clinic
REFRESH-INTERVAL;VALUE=DURATION:PT1H
X-Robots-Tag:noindex
X-PUBLISHED-TTL:PT1H
BEGIN:VTIMEZONE
TZID:America/Toronto
BEGIN:DAYLIGHT
TZOFFSETFROM:-0500
TZOFFSETTO:-0400
TZNAME:EDT
DTSTART:20240310T070000
END:DAYLIGHT
BEGIN:STANDARD
TZOFFSETFROM:-0400
TZOFFSETTO:-0500
TZNAME:EST
DTSTART:20241103T060000
END:STANDARD
BEGIN:DAYLIGHT
TZOFFSETFROM:-0500
TZOFFSETTO:-0400
TZNAME:EDT
DTSTART:20250309T070000
END:DAYLIGHT
BEGIN:STANDARD
TZOFFSETFROM:-0400
TZOFFSETTO:-0500
TZNAME:EST
DTSTART:20251102T060000
END:STANDARD
BEGIN:DAYLIGHT
TZOFFSETFROM:-0500
TZOFFSETTO:-0400
TZNAME:EDT
DTSTART:20260308T070000
END:DAYLIGHT
BEGIN:STANDARD
TZOFFSETFROM:-0400
TZOFFSETTO:-0500
TZNAME:EST
DTSTART:20261101T060000
END:STANDARD
END:VTIMEZONE
BEGIN:VEVENT
DTSTART;TZID=America/Toronto:20251114T170000
DTEND;TZID=America/Toronto:20251114T180000
DTSTAMP:20260425T181803
CREATED:20251028T215938Z
LAST-MODIFIED:20251107T184639Z
UID:10000379-1763139600-1763143200@newbiologyclinic.com
SUMMARY:Problem Solving vs Healing with Pat Daly
DESCRIPTION:Problem Solving vs Healing with Pat Daly \nLength: 1 Hour \n-Please note session times are reflected in the Eastern time zone. \nPlease register in advance via the link provided in your chat found under news & announcements. Please send a chat to a member of the care team if you cannot locate your link.
URL:https://newbiologyclinic.com/events/problem-solving-vs-healing-with-pat-daly/
LOCATION:Zoom (link in dashboard)
END:VEVENT
BEGIN:VEVENT
DTSTART;TZID=America/Toronto:20251113T180000
DTEND;TZID=America/Toronto:20251113T185500
DTSTAMP:20260425T181803
CREATED:20251028T220706Z
LAST-MODIFIED:20251028T220706Z
UID:10000382-1763056800-1763060100@newbiologyclinic.com
SUMMARY:Beginner Movement Session with Pat Daly
DESCRIPTION:Beginner movement session with our Primal Movement Coach\, Pat Daly. \nLength: 55 Minutes \n-Please note session times are reflected in the eastern time zone. \n  \nPlease register for this session through your member dashboard under Appointments\, then select Pat Daly. \n 
URL:https://newbiologyclinic.com/events/beginner-movement-session-with-pat-daly-51/
LOCATION:Zoom (link in dashboard)
END:VEVENT
BEGIN:VEVENT
DTSTART;TZID=America/Toronto:20251113T170000
DTEND;TZID=America/Toronto:20251113T175500
DTSTAMP:20260425T181803
CREATED:20251028T221244Z
LAST-MODIFIED:20251028T221430Z
UID:10000386-1763053200-1763056500@newbiologyclinic.com
SUMMARY:Advanced Movement Session with Pat Daly
DESCRIPTION:Advanced movement session with our Primal Movement Coach\, Pat Daly. \nLength: 55 Minutes \n-Please note session times are reflected in the eastern time zone. \n  \nPlease register for this session through your member dashboard under Appointments\, then select Pat Daly.
URL:https://newbiologyclinic.com/events/advanced-movement-session-with-pat-daly-54/
LOCATION:Zoom (link in dashboard)
END:VEVENT
BEGIN:VEVENT
DTSTART;TZID=America/Toronto:20251026T120000
DTEND;TZID=America/Toronto:20251026T125500
DTSTAMP:20260425T181803
CREATED:20250924T223736Z
LAST-MODIFIED:20250924T223736Z
UID:10000361-1761480000-1761483300@newbiologyclinic.com
SUMMARY:Beginner Movement Session with Pat Daly
DESCRIPTION:Beginner movement session with our Primal Movement Coach\, Pat Daly. \nLength: 55 Minutes \n-Please note session times are reflected in the eastern time zone. \n  \nPlease register for this session through your member dashboard under Appointments\, then select Pat Daly. \n 
URL:https://newbiologyclinic.com/events/beginner-movement-session-with-pat-daly-50/
LOCATION:Zoom (link in dashboard)
END:VEVENT
BEGIN:VEVENT
DTSTART;TZID=America/Toronto:20251026T110000
DTEND;TZID=America/Toronto:20251026T115500
DTSTAMP:20260425T181803
CREATED:20250924T224052Z
LAST-MODIFIED:20250924T224052Z
UID:10000364-1761476400-1761479700@newbiologyclinic.com
SUMMARY:Advanced Movement Session with Pat Daly
DESCRIPTION:Advanced movement session with our Primal Movement Coach\, Pat Daly. \nLength: 55 Minutes \n-Please note session times are reflected in the eastern time zone. \n  \nPlease register for this session through your member dashboard under Appointments\, then select Pat Daly.
URL:https://newbiologyclinic.com/events/advanced-movement-session-with-pat-daly-53/
LOCATION:Zoom (link in dashboard)
END:VEVENT
BEGIN:VEVENT
DTSTART;TZID=America/Toronto:20251019T120000
DTEND;TZID=America/Toronto:20251019T125500
DTSTAMP:20260425T181803
CREATED:20250924T223551Z
LAST-MODIFIED:20250924T223551Z
UID:10000360-1760875200-1760878500@newbiologyclinic.com
SUMMARY:Beginner Movement Session with Pat Daly
DESCRIPTION:Beginner movement session with our Primal Movement Coach\, Pat Daly. \nLength: 55 Minutes \n-Please note session times are reflected in the eastern time zone. \n  \nPlease register for this session through your member dashboard under Appointments\, then select Pat Daly. \n 
URL:https://newbiologyclinic.com/events/beginner-movement-session-with-pat-daly-49/
LOCATION:Zoom (link in dashboard)
END:VEVENT
BEGIN:VEVENT
DTSTART;TZID=America/Toronto:20251019T110000
DTEND;TZID=America/Toronto:20251019T115500
DTSTAMP:20260425T181803
CREATED:20250924T224000Z
LAST-MODIFIED:20250924T224000Z
UID:10000363-1760871600-1760874900@newbiologyclinic.com
SUMMARY:Advanced Movement Session with Pat Daly
DESCRIPTION:Advanced movement session with our Primal Movement Coach\, Pat Daly. \nLength: 55 Minutes \n-Please note session times are reflected in the eastern time zone. \n  \nPlease register for this session through your member dashboard under Appointments\, then select Pat Daly.
URL:https://newbiologyclinic.com/events/advanced-movement-session-with-pat-daly-52/
LOCATION:Zoom (link in dashboard)
END:VEVENT
BEGIN:VEVENT
DTSTART;TZID=America/Toronto:20251012T120000
DTEND;TZID=America/Toronto:20251012T125500
DTSTAMP:20260425T181803
CREATED:20250924T223442Z
LAST-MODIFIED:20250924T223442Z
UID:10000359-1760270400-1760273700@newbiologyclinic.com
SUMMARY:Beginner Movement Session with Pat Daly
DESCRIPTION:Beginner movement session with our Primal Movement Coach\, Pat Daly. \nLength: 55 Minutes \n-Please note session times are reflected in the eastern time zone. \n  \nPlease register for this session through your member dashboard under Appointments\, then select Pat Daly. \n 
URL:https://newbiologyclinic.com/events/beginner-movement-session-with-pat-daly-48/
LOCATION:Zoom (link in dashboard)
END:VEVENT
BEGIN:VEVENT
DTSTART;TZID=America/Toronto:20251012T110000
DTEND;TZID=America/Toronto:20251012T115500
DTSTAMP:20260425T181803
CREATED:20250924T223846Z
LAST-MODIFIED:20250924T223846Z
UID:10000362-1760266800-1760270100@newbiologyclinic.com
SUMMARY:Advanced Movement Session with Pat Daly
DESCRIPTION:Advanced movement session with our Primal Movement Coach\, Pat Daly. \nLength: 55 Minutes \n-Please note session times are reflected in the eastern time zone. \n  \nPlease register for this session through your member dashboard under Appointments\, then select Pat Daly.
URL:https://newbiologyclinic.com/events/advanced-movement-session-with-pat-daly-51/
LOCATION:Zoom (link in dashboard)
END:VEVENT
BEGIN:VEVENT
DTSTART;TZID=America/Toronto:20251009T180000
DTEND;TZID=America/Toronto:20251009T190000
DTSTAMP:20260425T181803
CREATED:20250924T222538Z
LAST-MODIFIED:20250924T222538Z
UID:10000356-1760032800-1760036400@newbiologyclinic.com
SUMMARY:Connect The Lower Body To The Upper Body Through The Pelvic Floor with Pat Daly
DESCRIPTION:Connect The Lower Body To The Upper Body Through The Pelvic Floor with Pat Daly \nLength: 1 Hour \n-Please note session times are reflected in the Eastern time zone. \nPlease register in advance via the link provided in your chat found under news & announcements. Please send a chat to a member of the care team if you cannot locate your link.
URL:https://newbiologyclinic.com/events/connect-the-lower-body-to-the-upper-body-through-the-pelvic-floor-with-pat-daly/
LOCATION:Zoom (link in dashboard)
END:VEVENT
BEGIN:VEVENT
DTSTART;TZID=America/Toronto:20251001T190000
DTEND;TZID=America/Toronto:20251001T195500
DTSTAMP:20260425T181803
CREATED:20250826T190607Z
LAST-MODIFIED:20250924T000739Z
UID:10000346-1759345200-1759348500@newbiologyclinic.com
SUMMARY:Beginner Movement Session with Pat Daly
DESCRIPTION:Beginner movement session with our Primal Movement Coach\, Pat Daly. \nLength: 55 Minutes \n-Please note session times are reflected in the eastern time zone. \n  \nPlease register for this session through your member dashboard under Appointments\, then select Pat Daly. \n 
URL:https://newbiologyclinic.com/events/beginner-movement-session-with-pat-daly-46/
LOCATION:Zoom (link in dashboard)
END:VEVENT
BEGIN:VEVENT
DTSTART;TZID=America/Toronto:20251001T180000
DTEND;TZID=America/Toronto:20251001T185500
DTSTAMP:20260425T181803
CREATED:20250826T191057Z
LAST-MODIFIED:20250924T000640Z
UID:10000349-1759341600-1759344900@newbiologyclinic.com
SUMMARY:Advanced Movement Session with Pat Daly
DESCRIPTION:Advanced movement session with our Primal Movement Coach\, Pat Daly. \nLength: 55 Minutes \n-Please note session times are reflected in the eastern time zone. \n  \nPlease register for this session through your member dashboard under Appointments\, then select Pat Daly.
URL:https://newbiologyclinic.com/events/advanced-movement-session-with-pat-daly-49/
LOCATION:Zoom (link in dashboard)
END:VEVENT
BEGIN:VEVENT
DTSTART;TZID=America/Toronto:20250928T120000
DTEND;TZID=America/Toronto:20250928T125500
DTSTAMP:20260425T181803
CREATED:20250826T190745Z
LAST-MODIFIED:20250826T190745Z
UID:10000347-1759060800-1759064100@newbiologyclinic.com
SUMMARY:Beginner Movement Session with Pat Daly
DESCRIPTION:Beginner movement session with our Primal Movement Coach\, Pat Daly. \nLength: 55 Minutes \n-Please note session times are reflected in the eastern time zone. \n  \nPlease register for this session through your member dashboard under Appointments\, then select Pat Daly. \n 
URL:https://newbiologyclinic.com/events/beginner-movement-session-with-pat-daly-47/
LOCATION:Zoom (link in dashboard)
END:VEVENT
BEGIN:VEVENT
DTSTART;TZID=America/Toronto:20250928T110000
DTEND;TZID=America/Toronto:20250928T115500
DTSTAMP:20260425T181803
CREATED:20250826T191201Z
LAST-MODIFIED:20250826T191201Z
UID:10000350-1759057200-1759060500@newbiologyclinic.com
SUMMARY:Advanced Movement Session with Pat Daly
DESCRIPTION:Advanced movement session with our Primal Movement Coach\, Pat Daly. \nLength: 55 Minutes \n-Please note session times are reflected in the eastern time zone. \n  \nPlease register for this session through your member dashboard under Appointments\, then select Pat Daly.
URL:https://newbiologyclinic.com/events/advanced-movement-session-with-pat-daly-50/
LOCATION:Zoom (link in dashboard)
END:VEVENT
BEGIN:VEVENT
DTSTART;TZID=America/Toronto:20250914T120000
DTEND;TZID=America/Toronto:20250914T125500
DTSTAMP:20260425T181803
CREATED:20250826T190419Z
LAST-MODIFIED:20250826T190419Z
UID:10000345-1757851200-1757854500@newbiologyclinic.com
SUMMARY:Beginner Movement Session with Pat Daly
DESCRIPTION:Beginner movement session with our Primal Movement Coach\, Pat Daly. \nLength: 55 Minutes \n-Please note session times are reflected in the eastern time zone. \n  \nPlease register for this session through your member dashboard under Appointments\, then select Pat Daly. \n 
URL:https://newbiologyclinic.com/events/beginner-movement-session-with-pat-daly-45/
LOCATION:Zoom (link in dashboard)
END:VEVENT
BEGIN:VEVENT
DTSTART;TZID=America/Toronto:20250914T110000
DTEND;TZID=America/Toronto:20250914T115500
DTSTAMP:20260425T181803
CREATED:20250826T190924Z
LAST-MODIFIED:20250826T190924Z
UID:10000348-1757847600-1757850900@newbiologyclinic.com
SUMMARY:Advanced Movement Session with Pat Daly
DESCRIPTION:Advanced movement session with our Primal Movement Coach\, Pat Daly. \nLength: 55 Minutes \n-Please note session times are reflected in the eastern time zone. \n  \nPlease register for this session through your member dashboard under Appointments\, then select Pat Daly.
URL:https://newbiologyclinic.com/events/advanced-movement-session-with-pat-daly-48/
LOCATION:Zoom (link in dashboard)
END:VEVENT
BEGIN:VEVENT
DTSTART;TZID=America/Toronto:20250911T190000
DTEND;TZID=America/Toronto:20250911T200000
DTSTAMP:20260425T181803
CREATED:20250826T180402Z
LAST-MODIFIED:20250826T180402Z
UID:10000327-1757617200-1757620800@newbiologyclinic.com
SUMMARY:How to manage the ups and downs of our healing journey with Pat Daly
DESCRIPTION:How to manage the ups and downs of our healing journey with Pat Daly \nLength: 1 Hour \n-Please note session times are reflected in the Eastern time zone. \nPlease register in advance via the link provided in your chat found under news & announcements. Please send a chat to a member of the care team if you cannot locate your link.
URL:https://newbiologyclinic.com/events/how-to-manage-the-ups-and-downs-of-our-healing-journey-with-pat-daly/
LOCATION:Zoom (link in dashboard)
END:VEVENT
BEGIN:VEVENT
DTSTART;TZID=America/Toronto:20250824T120000
DTEND;TZID=America/Toronto:20250824T125500
DTSTAMP:20260425T181803
CREATED:20250723T012212Z
LAST-MODIFIED:20250723T012212Z
UID:10000314-1756036800-1756040100@newbiologyclinic.com
SUMMARY:Beginner Movement Session with Pat Daly
DESCRIPTION:Beginner movement session with our Primal Movement Coach\, Pat Daly. \nLength: 55 Minutes \n-Please note session times are reflected in the eastern time zone. \n  \nPlease register for this session through your member dashboard under Appointments\, then select Pat Daly. \n 
URL:https://newbiologyclinic.com/events/beginner-movement-session-with-pat-daly-44/
LOCATION:Zoom (link in dashboard)
END:VEVENT
BEGIN:VEVENT
DTSTART;TZID=America/Toronto:20250824T110000
DTEND;TZID=America/Toronto:20250824T115500
DTSTAMP:20260425T181803
CREATED:20250723T014156Z
LAST-MODIFIED:20250723T014156Z
UID:10000317-1756033200-1756036500@newbiologyclinic.com
SUMMARY:Advanced Movement Session with Pat Daly
DESCRIPTION:Advanced movement session with our Primal Movement Coach\, Pat Daly. \nLength: 55 Minutes \n-Please note session times are reflected in the eastern time zone. \n  \nPlease register for this session through your member dashboard under Appointments\, then select Pat Daly.
URL:https://newbiologyclinic.com/events/advanced-movement-session-with-pat-daly-47/
LOCATION:Zoom (link in dashboard)
END:VEVENT
BEGIN:VEVENT
DTSTART;TZID=America/Toronto:20250817T120000
DTEND;TZID=America/Toronto:20250817T125500
DTSTAMP:20260425T181803
CREATED:20250723T012056Z
LAST-MODIFIED:20250723T012056Z
UID:10000313-1755432000-1755435300@newbiologyclinic.com
SUMMARY:Beginner Movement Session with Pat Daly
DESCRIPTION:Beginner movement session with our Primal Movement Coach\, Pat Daly. \nLength: 55 Minutes \n-Please note session times are reflected in the eastern time zone. \n  \nPlease register for this session through your member dashboard under Appointments\, then select Pat Daly. \n 
URL:https://newbiologyclinic.com/events/beginner-movement-session-with-pat-daly-43/
LOCATION:Zoom (link in dashboard)
END:VEVENT
BEGIN:VEVENT
DTSTART;TZID=America/Toronto:20250817T110000
DTEND;TZID=America/Toronto:20250817T115500
DTSTAMP:20260425T181803
CREATED:20250723T014044Z
LAST-MODIFIED:20250723T014044Z
UID:10000316-1755428400-1755431700@newbiologyclinic.com
SUMMARY:Advanced Movement Session with Pat Daly
DESCRIPTION:Advanced movement session with our Primal Movement Coach\, Pat Daly. \nLength: 55 Minutes \n-Please note session times are reflected in the eastern time zone. \n  \nPlease register for this session through your member dashboard under Appointments\, then select Pat Daly.
URL:https://newbiologyclinic.com/events/advanced-movement-session-with-pat-daly-46/
LOCATION:Zoom (link in dashboard)
END:VEVENT
BEGIN:VEVENT
DTSTART;TZID=America/Toronto:20250810T120000
DTEND;TZID=America/Toronto:20250810T125500
DTSTAMP:20260425T181803
CREATED:20250723T011831Z
LAST-MODIFIED:20250723T011831Z
UID:10000312-1754827200-1754830500@newbiologyclinic.com
SUMMARY:Beginner Movement Session with Pat Daly
DESCRIPTION:Beginner movement session with our Primal Movement Coach\, Pat Daly. \nLength: 55 Minutes \n-Please note session times are reflected in the eastern time zone. \n  \nPlease register for this session through your member dashboard under Appointments\, then select Pat Daly. \n 
URL:https://newbiologyclinic.com/events/beginner-movement-session-with-pat-daly-42/
LOCATION:Zoom (link in dashboard)
END:VEVENT
BEGIN:VEVENT
DTSTART;TZID=America/Toronto:20250810T110000
DTEND;TZID=America/Toronto:20250810T115500
DTSTAMP:20260425T181803
CREATED:20250723T013935Z
LAST-MODIFIED:20250723T013935Z
UID:10000315-1754823600-1754826900@newbiologyclinic.com
SUMMARY:Advanced Movement Session with Pat Daly
DESCRIPTION:Advanced movement session with our Primal Movement Coach\, Pat Daly. \nLength: 55 Minutes \n-Please note session times are reflected in the eastern time zone. \n  \nPlease register for this session through your member dashboard under Appointments\, then select Pat Daly.
URL:https://newbiologyclinic.com/events/advanced-movement-session-with-pat-daly-45/
LOCATION:Zoom (link in dashboard)
END:VEVENT
BEGIN:VEVENT
DTSTART;TZID=America/Toronto:20250807T190000
DTEND;TZID=America/Toronto:20250807T200000
DTSTAMP:20260425T181803
CREATED:20250722T211702Z
LAST-MODIFIED:20250722T211702Z
UID:10000297-1754593200-1754596800@newbiologyclinic.com
SUMMARY:Q&A with Pat Daly
DESCRIPTION:Q&A with Pat Daly \nLength: 1 Hour \n-Please note session times are reflected in the Eastern time zone. \nPlease register in advance via the link provided in your chat found under news & announcements. Please send a chat to a member of the care team if you cannot locate your link.
URL:https://newbiologyclinic.com/events/qa-with-pat-daly-5/
LOCATION:Zoom (link in dashboard)
END:VEVENT
BEGIN:VEVENT
DTSTART;TZID=America/Toronto:20250727T120000
DTEND;TZID=America/Toronto:20250727T125500
DTSTAMP:20260425T181803
CREATED:20250627T184950Z
LAST-MODIFIED:20250724T172732Z
UID:10000288-1753617600-1753620900@newbiologyclinic.com
SUMMARY:Beginner Movement Session with Pat Daly
DESCRIPTION:Beginner movement session with our Primal Movement Coach\, Pat Daly. \nLength: 55 Minutes \n-Please note session times are reflected in the eastern time zone. \n  \nPlease register for this session through your member dashboard under Appointments\, then select Pat Daly. \n 
URL:https://newbiologyclinic.com/events/beginner-movement-session-with-pat-daly-41/
LOCATION:Zoom (link in dashboard)
END:VEVENT
BEGIN:VEVENT
DTSTART;TZID=America/Toronto:20250727T110000
DTEND;TZID=America/Toronto:20250727T115500
DTSTAMP:20260425T181803
CREATED:20250627T185641Z
LAST-MODIFIED:20250724T172613Z
UID:10000291-1753614000-1753617300@newbiologyclinic.com
SUMMARY:Advanced Movement Session with Pat Daly
DESCRIPTION:Advanced movement session with our Primal Movement Coach\, Pat Daly. \nLength: 55 Minutes \n-Please note session times are reflected in the eastern time zone. \n  \nPlease register for this session through your member dashboard under Appointments\, then select Pat Daly.
URL:https://newbiologyclinic.com/events/advanced-movement-session-with-pat-daly-44/
LOCATION:Zoom (link in dashboard)
END:VEVENT
BEGIN:VEVENT
DTSTART;TZID=America/Toronto:20250720T120000
DTEND;TZID=America/Toronto:20250720T125500
DTSTAMP:20260425T181803
CREATED:20250627T184715Z
LAST-MODIFIED:20250627T184715Z
UID:10000287-1753012800-1753016100@newbiologyclinic.com
SUMMARY:Beginner Movement Session with Pat Daly
DESCRIPTION:Beginner movement session with our Primal Movement Coach\, Pat Daly. \nLength: 55 Minutes \n-Please note session times are reflected in the eastern time zone. \n  \nPlease register for this session through your member dashboard under Appointments\, then select Pat Daly. \n 
URL:https://newbiologyclinic.com/events/beginner-movement-session-with-pat-daly-40/
LOCATION:Zoom (link in dashboard)
END:VEVENT
BEGIN:VEVENT
DTSTART;TZID=America/Toronto:20250720T110000
DTEND;TZID=America/Toronto:20250720T115500
DTSTAMP:20260425T181803
CREATED:20250627T185517Z
LAST-MODIFIED:20250627T185517Z
UID:10000290-1753009200-1753012500@newbiologyclinic.com
SUMMARY:Advanced Movement Session with Pat Daly
DESCRIPTION:Advanced movement session with our Primal Movement Coach\, Pat Daly. \nLength: 55 Minutes \n-Please note session times are reflected in the eastern time zone. \n  \nPlease register for this session through your member dashboard under Appointments\, then select Pat Daly.
URL:https://newbiologyclinic.com/events/advanced-movement-session-with-pat-daly-43/
LOCATION:Zoom (link in dashboard)
END:VEVENT
BEGIN:VEVENT
DTSTART;TZID=America/Toronto:20250713T120000
DTEND;TZID=America/Toronto:20250713T125500
DTSTAMP:20260425T181803
CREATED:20250627T184035Z
LAST-MODIFIED:20250627T184035Z
UID:10000286-1752408000-1752411300@newbiologyclinic.com
SUMMARY:Beginner Movement Session with Pat Daly
DESCRIPTION:Beginner movement session with our Primal Movement Coach\, Pat Daly. \nLength: 55 Minutes \n-Please note session times are reflected in the eastern time zone. \n  \nPlease register for this session through your member dashboard under Appointments\, then select Pat Daly. \n 
URL:https://newbiologyclinic.com/events/beginner-movement-session-with-pat-daly-39/
LOCATION:Zoom (link in dashboard)
END:VEVENT
BEGIN:VEVENT
DTSTART;TZID=America/Toronto:20250713T110000
DTEND;TZID=America/Toronto:20250713T115500
DTSTAMP:20260425T181803
CREATED:20250627T185401Z
LAST-MODIFIED:20250627T185401Z
UID:10000289-1752404400-1752407700@newbiologyclinic.com
SUMMARY:Advanced Movement Session with Pat Daly
DESCRIPTION:Advanced movement session with our Primal Movement Coach\, Pat Daly. \nLength: 55 Minutes \n-Please note session times are reflected in the eastern time zone. \n  \nPlease register for this session through your member dashboard under Appointments\, then select Pat Daly.
URL:https://newbiologyclinic.com/events/advanced-movement-session-with-pat-daly-42/
LOCATION:Zoom (link in dashboard)
END:VEVENT
END:VCALENDAR