BEGIN:VCALENDAR
VERSION:2.0
PRODID:-//New Biology Clinic - ECPv6.15.20//NONSGML v1.0//EN
CALSCALE:GREGORIAN
METHOD:PUBLISH
X-WR-CALNAME:New Biology Clinic
X-ORIGINAL-URL:https://newbiologyclinic.com
X-WR-CALDESC:Events for New Biology Clinic
REFRESH-INTERVAL;VALUE=DURATION:PT1H
X-Robots-Tag:noindex
X-PUBLISHED-TTL:PT1H
BEGIN:VTIMEZONE
TZID:America/Toronto
BEGIN:DAYLIGHT
TZOFFSETFROM:-0500
TZOFFSETTO:-0400
TZNAME:EDT
DTSTART:20240310T070000
END:DAYLIGHT
BEGIN:STANDARD
TZOFFSETFROM:-0400
TZOFFSETTO:-0500
TZNAME:EST
DTSTART:20241103T060000
END:STANDARD
BEGIN:DAYLIGHT
TZOFFSETFROM:-0500
TZOFFSETTO:-0400
TZNAME:EDT
DTSTART:20250309T070000
END:DAYLIGHT
BEGIN:STANDARD
TZOFFSETFROM:-0400
TZOFFSETTO:-0500
TZNAME:EST
DTSTART:20251102T060000
END:STANDARD
BEGIN:DAYLIGHT
TZOFFSETFROM:-0500
TZOFFSETTO:-0400
TZNAME:EDT
DTSTART:20260308T070000
END:DAYLIGHT
BEGIN:STANDARD
TZOFFSETFROM:-0400
TZOFFSETTO:-0500
TZNAME:EST
DTSTART:20261101T060000
END:STANDARD
END:VTIMEZONE
BEGIN:VEVENT
DTSTART;TZID=America/Toronto:20250615T120000
DTEND;TZID=America/Toronto:20250615T125500
DTSTAMP:20260425T230038
CREATED:20250527T185554Z
LAST-MODIFIED:20250527T185554Z
UID:10000264-1749988800-1749992100@newbiologyclinic.com
SUMMARY:Beginner Movement Session with Pat Daly
DESCRIPTION:Beginner movement session with our Primal Movement Coach\, Pat Daly. \nLength: 55 Minutes \n-Please note session times are reflected in the eastern time zone. \n  \nPlease register for this session through your member dashboard under Appointments\, then select Pat Daly. \n 
URL:https://newbiologyclinic.com/events/beginner-movement-session-with-pat-daly-36/
LOCATION:Zoom (link in dashboard)
END:VEVENT
BEGIN:VEVENT
DTSTART;TZID=America/Toronto:20250615T110000
DTEND;TZID=America/Toronto:20250615T115500
DTSTAMP:20260425T230038
CREATED:20250527T190156Z
LAST-MODIFIED:20250527T190156Z
UID:10000267-1749985200-1749988500@newbiologyclinic.com
SUMMARY:Advanced Movement Session with Pat Daly
DESCRIPTION:Advanced movement session with our Primal Movement Coach\, Pat Daly. \nLength: 55 Minutes \n-Please note session times are reflected in the eastern time zone. \n  \nPlease register for this session through your member dashboard under Appointments\, then select Pat Daly.
URL:https://newbiologyclinic.com/events/advanced-movement-session-with-pat-daly-39/
LOCATION:Zoom (link in dashboard)
END:VEVENT
BEGIN:VEVENT
DTSTART;TZID=America/Toronto:20250514T180000
DTEND;TZID=America/Toronto:20250514T190000
DTSTAMP:20260425T230038
CREATED:20250425T193414Z
LAST-MODIFIED:20250425T193414Z
UID:10000231-1747245600-1747249200@newbiologyclinic.com
SUMMARY:Looking At Heart Attacks With A Different Lens with Pat Daly
DESCRIPTION:Looking At Heart Attacks With A Different Lens with Pat Daly \nLength: 1 Hour \n-Please note session times are reflected in the Eastern time zone. \nPlease register in advance via the link provided in your chat found under news & announcements. Please send a chat to a member of the care team if you cannot locate your link.
URL:https://newbiologyclinic.com/events/looking-at-heart-attacks-with-a-different-lens-with-pat-daly/
LOCATION:Zoom (link in dashboard)
END:VEVENT
BEGIN:VEVENT
DTSTART;TZID=America/Toronto:20250514T163000
DTEND;TZID=America/Toronto:20250514T172500
DTSTAMP:20260425T230038
CREATED:20250425T230756Z
LAST-MODIFIED:20250508T181921Z
UID:10000245-1747240200-1747243500@newbiologyclinic.com
SUMMARY:Beginner Movement Session with Pat Daly
DESCRIPTION:Beginner movement session with our Primal Movement Coach\, Pat Daly. \nLength: 55 Minutes \n-Please note session times are reflected in the eastern time zone. \n  \nPlease register for this session through your member dashboard under Appointments\, then select Pat Daly. \n 
URL:https://newbiologyclinic.com/events/beginner-movement-session-with-pat-daly-34/
LOCATION:Zoom (link in dashboard)
END:VEVENT
BEGIN:VEVENT
DTSTART;TZID=America/Toronto:20250514T153000
DTEND;TZID=America/Toronto:20250514T162500
DTSTAMP:20260425T230038
CREATED:20250425T233236Z
LAST-MODIFIED:20250508T181838Z
UID:10000248-1747236600-1747239900@newbiologyclinic.com
SUMMARY:Advanced Movement Session with Pat Daly
DESCRIPTION:Advanced movement session with our Primal Movement Coach\, Pat Daly. \nLength: 55 Minutes \n-Please note session times are reflected in the eastern time zone. \n  \nPlease register for this session through your member dashboard under Appointments\, then select Pat Daly.
URL:https://newbiologyclinic.com/events/advanced-movement-session-with-pat-daly-37/
LOCATION:Zoom (link in dashboard)
END:VEVENT
BEGIN:VEVENT
DTSTART;TZID=America/Toronto:20250511T120000
DTEND;TZID=America/Toronto:20250511T125500
DTSTAMP:20260425T230038
CREATED:20250425T233026Z
LAST-MODIFIED:20250425T233026Z
UID:10000246-1746964800-1746968100@newbiologyclinic.com
SUMMARY:Beginner Movement Session with Pat Daly
DESCRIPTION:Beginner movement session with our Primal Movement Coach\, Pat Daly. \nLength: 55 Minutes \n-Please note session times are reflected in the eastern time zone. \n  \nPlease register for this session through your member dashboard under Appointments\, then select Pat Daly. \n 
URL:https://newbiologyclinic.com/events/beginner-movement-session-with-pat-daly-35/
LOCATION:Zoom (link in dashboard)
END:VEVENT
BEGIN:VEVENT
DTSTART;TZID=America/Toronto:20250511T110000
DTEND;TZID=America/Toronto:20250511T115500
DTSTAMP:20260425T230038
CREATED:20250425T233330Z
LAST-MODIFIED:20250425T233330Z
UID:10000249-1746961200-1746964500@newbiologyclinic.com
SUMMARY:Advanced Movement Session with Pat Daly
DESCRIPTION:Advanced movement session with our Primal Movement Coach\, Pat Daly. \nLength: 55 Minutes \n-Please note session times are reflected in the eastern time zone. \n  \nPlease register for this session through your member dashboard under Appointments\, then select Pat Daly.
URL:https://newbiologyclinic.com/events/advanced-movement-session-with-pat-daly-38/
LOCATION:Zoom (link in dashboard)
END:VEVENT
BEGIN:VEVENT
DTSTART;TZID=America/Toronto:20250504T120000
DTEND;TZID=America/Toronto:20250504T125500
DTSTAMP:20260425T230038
CREATED:20250425T230630Z
LAST-MODIFIED:20250425T230630Z
UID:10000244-1746360000-1746363300@newbiologyclinic.com
SUMMARY:Beginner Movement Session with Pat Daly
DESCRIPTION:Beginner movement session with our Primal Movement Coach\, Pat Daly. \nLength: 55 Minutes \n-Please note session times are reflected in the eastern time zone. \n  \nPlease register for this session through your member dashboard under Appointments\, then select Pat Daly. \n 
URL:https://newbiologyclinic.com/events/beginner-movement-session-with-pat-daly-33/
LOCATION:Zoom (link in dashboard)
END:VEVENT
BEGIN:VEVENT
DTSTART;TZID=America/Toronto:20250504T110000
DTEND;TZID=America/Toronto:20250504T115500
DTSTAMP:20260425T230038
CREATED:20250425T233140Z
LAST-MODIFIED:20250425T233140Z
UID:10000247-1746356400-1746359700@newbiologyclinic.com
SUMMARY:Advanced Movement Session with Pat Daly
DESCRIPTION:Advanced movement session with our Primal Movement Coach\, Pat Daly. \nLength: 55 Minutes \n-Please note session times are reflected in the eastern time zone. \n  \nPlease register for this session through your member dashboard under Appointments\, then select Pat Daly.
URL:https://newbiologyclinic.com/events/advanced-movement-session-with-pat-daly-36/
LOCATION:Zoom (link in dashboard)
END:VEVENT
BEGIN:VEVENT
DTSTART;TZID=America/Toronto:20250427T120000
DTEND;TZID=America/Toronto:20250427T125500
DTSTAMP:20260425T230038
CREATED:20250326T200947Z
LAST-MODIFIED:20250326T200947Z
UID:10000226-1745755200-1745758500@newbiologyclinic.com
SUMMARY:Beginner Movement Session with Pat Daly
DESCRIPTION:Beginner movement session with our Primal Movement Coach\, Pat Daly. \nLength: 55 Minutes \n-Please note session times are reflected in the eastern time zone. \n  \nPlease register for this session through your member dashboard under Appointments\, then select Pat Daly. \n 
URL:https://newbiologyclinic.com/events/beginner-movement-session-with-pat-daly-32/
LOCATION:Zoom (link in dashboard)
END:VEVENT
BEGIN:VEVENT
DTSTART;TZID=America/Toronto:20250427T110000
DTEND;TZID=America/Toronto:20250427T115500
DTSTAMP:20260425T230038
CREATED:20250326T202052Z
LAST-MODIFIED:20250326T202052Z
UID:10000229-1745751600-1745754900@newbiologyclinic.com
SUMMARY:Advanced Movement Session with Pat Daly
DESCRIPTION:Advanced movement session with our Primal Movement Coach\, Pat Daly. \nLength: 55 Minutes \n-Please note session times are reflected in the eastern time zone. \n  \nPlease register for this session through your member dashboard under Appointments\, then select Pat Daly.
URL:https://newbiologyclinic.com/events/advanced-movement-session-with-pat-daly-35/
LOCATION:Zoom (link in dashboard)
END:VEVENT
BEGIN:VEVENT
DTSTART;TZID=America/Toronto:20250424T180000
DTEND;TZID=America/Toronto:20250424T185500
DTSTAMP:20260425T230038
CREATED:20250326T200853Z
LAST-MODIFIED:20250326T200853Z
UID:10000225-1745517600-1745520900@newbiologyclinic.com
SUMMARY:Beginner Movement Session with Pat Daly
DESCRIPTION:Beginner movement session with our Primal Movement Coach\, Pat Daly. \nLength: 55 Minutes \n-Please note session times are reflected in the eastern time zone. \n  \nPlease register for this session through your member dashboard under Appointments\, then select Pat Daly. \n 
URL:https://newbiologyclinic.com/events/beginner-movement-session-with-pat-daly-31/
LOCATION:Zoom (link in dashboard)
END:VEVENT
BEGIN:VEVENT
DTSTART;TZID=America/Toronto:20250424T170000
DTEND;TZID=America/Toronto:20250424T175500
DTSTAMP:20260425T230038
CREATED:20250326T202000Z
LAST-MODIFIED:20250326T202000Z
UID:10000228-1745514000-1745517300@newbiologyclinic.com
SUMMARY:Advanced Movement Session with Pat Daly
DESCRIPTION:Advanced movement session with our Primal Movement Coach\, Pat Daly. \nLength: 55 Minutes \n-Please note session times are reflected in the eastern time zone. \n  \nPlease register for this session through your member dashboard under Appointments\, then select Pat Daly.
URL:https://newbiologyclinic.com/events/advanced-movement-session-with-pat-daly-34/
LOCATION:Zoom (link in dashboard)
END:VEVENT
BEGIN:VEVENT
DTSTART;TZID=America/Toronto:20250423T190000
DTEND;TZID=America/Toronto:20250423T200000
DTSTAMP:20260425T230038
CREATED:20250326T194646Z
LAST-MODIFIED:20250417T192843Z
UID:10000211-1745434800-1745438400@newbiologyclinic.com
SUMMARY:The Feet and Relearning How to Walk with Pat Daly
DESCRIPTION:The Feet and Relearning How to Walk with Pat Daly \nLength: 1 Hour \n-Please note session times are reflected in the Eastern time zone. \nPlease register in advance via the link provided in your chat found under news & announcements. Please send a chat to a member of the care team if you cannot locate your link.
URL:https://newbiologyclinic.com/events/the-feet-and-relearning-how-to-walk-with-pat-daly/
LOCATION:Zoom (link in dashboard)
END:VEVENT
BEGIN:VEVENT
DTSTART;TZID=America/Toronto:20250410T180000
DTEND;TZID=America/Toronto:20250410T185500
DTSTAMP:20260425T230038
CREATED:20250326T200739Z
LAST-MODIFIED:20250326T200739Z
UID:10000224-1744308000-1744311300@newbiologyclinic.com
SUMMARY:Beginner Movement Session with Pat Daly
DESCRIPTION:Beginner movement session with our Primal Movement Coach\, Pat Daly. \nLength: 55 Minutes \n-Please note session times are reflected in the eastern time zone. \n  \nPlease register for this session through your member dashboard under Appointments\, then select Pat Daly. \n 
URL:https://newbiologyclinic.com/events/beginner-movement-session-with-pat-daly-30/
LOCATION:Zoom (link in dashboard)
END:VEVENT
BEGIN:VEVENT
DTSTART;TZID=America/Toronto:20250410T170000
DTEND;TZID=America/Toronto:20250410T175500
DTSTAMP:20260425T230038
CREATED:20250326T201814Z
LAST-MODIFIED:20250326T201814Z
UID:10000227-1744304400-1744307700@newbiologyclinic.com
SUMMARY:Advanced Movement Session with Pat Daly
DESCRIPTION:Advanced movement session with our Primal Movement Coach\, Pat Daly. \nLength: 55 Minutes \n-Please note session times are reflected in the eastern time zone. \n  \nPlease register for this session through your member dashboard under Appointments\, then select Pat Daly.
URL:https://newbiologyclinic.com/events/advanced-movement-session-with-pat-daly-33/
LOCATION:Zoom (link in dashboard)
END:VEVENT
BEGIN:VEVENT
DTSTART;TZID=America/Toronto:20250330T120000
DTEND;TZID=America/Toronto:20250330T125500
DTSTAMP:20260425T230038
CREATED:20250224T222350Z
LAST-MODIFIED:20250224T222350Z
UID:10000205-1743336000-1743339300@newbiologyclinic.com
SUMMARY:Beginner Movement Session with Pat Daly
DESCRIPTION:Beginner movement session with our Primal Movement Coach\, Pat Daly. \nLength: 55 Minutes \n-Please note session times are reflected in the eastern time zone. \n  \nPlease register for this session through your member dashboard under Appointments\, then select Pat Daly. \n 
URL:https://newbiologyclinic.com/events/beginner-movement-session-with-pat-daly-29/
LOCATION:Zoom (link in dashboard)
END:VEVENT
BEGIN:VEVENT
DTSTART;TZID=America/Toronto:20250330T110000
DTEND;TZID=America/Toronto:20250330T115500
DTSTAMP:20260425T230038
CREATED:20250224T222714Z
LAST-MODIFIED:20250224T222714Z
UID:10000208-1743332400-1743335700@newbiologyclinic.com
SUMMARY:Advanced Movement Session with Pat Daly
DESCRIPTION:Advanced movement session with our Primal Movement Coach\, Pat Daly. \nLength: 55 Minutes \n-Please note session times are reflected in the eastern time zone. \n  \nPlease register for this session through your member dashboard under Appointments\, then select Pat Daly.
URL:https://newbiologyclinic.com/events/advanced-movement-session-with-pat-daly-32/
LOCATION:Zoom (link in dashboard)
END:VEVENT
BEGIN:VEVENT
DTSTART;TZID=America/Toronto:20250327T180000
DTEND;TZID=America/Toronto:20250327T185500
DTSTAMP:20260425T230038
CREATED:20250224T222254Z
LAST-MODIFIED:20250224T222254Z
UID:10000204-1743098400-1743101700@newbiologyclinic.com
SUMMARY:Beginner Movement Session with Pat Daly
DESCRIPTION:Beginner movement session with our Primal Movement Coach\, Pat Daly. \nLength: 55 Minutes \n-Please note session times are reflected in the eastern time zone. \n  \nPlease register for this session through your member dashboard under Appointments\, then select Pat Daly. \n 
URL:https://newbiologyclinic.com/events/beginner-movement-session-with-pat-daly-28/
LOCATION:Zoom (link in dashboard)
END:VEVENT
BEGIN:VEVENT
DTSTART;TZID=America/Toronto:20250327T170000
DTEND;TZID=America/Toronto:20250327T175500
DTSTAMP:20260425T230038
CREATED:20250224T222547Z
LAST-MODIFIED:20250224T222547Z
UID:10000207-1743094800-1743098100@newbiologyclinic.com
SUMMARY:Advanced Movement Session with Pat Daly
DESCRIPTION:Advanced movement session with our Primal Movement Coach\, Pat Daly. \nLength: 55 Minutes \n-Please note session times are reflected in the eastern time zone. \n  \nPlease register for this session through your member dashboard under Appointments\, then select Pat Daly.
URL:https://newbiologyclinic.com/events/advanced-movement-session-with-pat-daly-31/
LOCATION:Zoom (link in dashboard)
END:VEVENT
BEGIN:VEVENT
DTSTART;TZID=America/Toronto:20250320T190000
DTEND;TZID=America/Toronto:20250320T200000
DTSTAMP:20260425T230038
CREATED:20250224T221424Z
LAST-MODIFIED:20250224T221424Z
UID:10000200-1742497200-1742500800@newbiologyclinic.com
SUMMARY:Prostate Cancer and What We Can Do With Movement with Pat Daly
DESCRIPTION:Prostate Cancer and What We Can Do With Movement with Pat Daly \nLength: 1 Hour \n-Please note session times are reflected in the Eastern time zone. \nPlease register in advance via the link provided in your chat found under news & announcements. Please send a chat to a member of the care team if you cannot locate your link.
URL:https://newbiologyclinic.com/events/prostate-cancer-and-what-we-can-do-with-movement-with-pat-daly/
LOCATION:Zoom (link in dashboard)
END:VEVENT
BEGIN:VEVENT
DTSTART;TZID=America/Toronto:20250313T180000
DTEND;TZID=America/Toronto:20250313T185500
DTSTAMP:20260425T230038
CREATED:20250224T222156Z
LAST-MODIFIED:20250224T222156Z
UID:10000203-1741888800-1741892100@newbiologyclinic.com
SUMMARY:Beginner Movement Session with Pat Daly
DESCRIPTION:Beginner movement session with our Primal Movement Coach\, Pat Daly. \nLength: 55 Minutes \n-Please note session times are reflected in the eastern time zone. \n  \nPlease register for this session through your member dashboard under Appointments\, then select Pat Daly. \n 
URL:https://newbiologyclinic.com/events/beginner-movement-session-with-pat-daly-27/
LOCATION:Zoom (link in dashboard)
END:VEVENT
BEGIN:VEVENT
DTSTART;TZID=America/Toronto:20250313T170000
DTEND;TZID=America/Toronto:20250313T175500
DTSTAMP:20260425T230038
CREATED:20250224T222452Z
LAST-MODIFIED:20250224T222452Z
UID:10000206-1741885200-1741888500@newbiologyclinic.com
SUMMARY:Advanced Movement Session with Pat Daly
DESCRIPTION:Advanced movement session with our Primal Movement Coach\, Pat Daly. \nLength: 55 Minutes \n-Please note session times are reflected in the eastern time zone. \n  \nPlease register for this session through your member dashboard under Appointments\, then select Pat Daly.
URL:https://newbiologyclinic.com/events/advanced-movement-session-with-pat-daly-30/
LOCATION:Zoom (link in dashboard)
END:VEVENT
BEGIN:VEVENT
DTSTART;TZID=America/Toronto:20250302T110000
DTEND;TZID=America/Toronto:20250302T115500
DTSTAMP:20260425T230038
CREATED:20250123T143945Z
LAST-MODIFIED:20250224T221953Z
UID:10000185-1740913200-1740916500@newbiologyclinic.com
SUMMARY:Beginner Movement Session with Pat Daly
DESCRIPTION:Beginner movement session with our Primal Movement Coach\, Pat Daly. \nLength: 55 Minutes \n-Please note session times are reflected in the eastern time zone. \n  \nPlease register for this session through your member dashboard under Appointments\, then select Pat Daly. \n 
URL:https://newbiologyclinic.com/events/beginner-movement-session-with-pat-daly-26/
LOCATION:Zoom (link in dashboard)
END:VEVENT
BEGIN:VEVENT
DTSTART;TZID=America/Toronto:20250302T100000
DTEND;TZID=America/Toronto:20250302T105500
DTSTAMP:20260425T230038
CREATED:20250123T144525Z
LAST-MODIFIED:20250224T222040Z
UID:10000188-1740909600-1740912900@newbiologyclinic.com
SUMMARY:Advanced Movement Session with Pat Daly
DESCRIPTION:Advanced movement session with our Primal Movement Coach\, Pat Daly. \nLength: 55 Minutes \n-Please note session times are reflected in the eastern time zone. \n  \nPlease register for this session through your member dashboard under Appointments\, then select Pat Daly.
URL:https://newbiologyclinic.com/events/advanced-movement-session-with-pat-daly-29/
LOCATION:Zoom (link in dashboard)
END:VEVENT
BEGIN:VEVENT
DTSTART;TZID=America/Toronto:20250227T180000
DTEND;TZID=America/Toronto:20250227T190000
DTSTAMP:20260425T230038
CREATED:20250123T141044Z
LAST-MODIFIED:20250123T141044Z
UID:10000171-1740679200-1740682800@newbiologyclinic.com
SUMMARY:Q&A with Pat Daly
DESCRIPTION:Q&A with Pat Daly \nLength: 1 Hour \n-Please note session times are reflected in the Eastern time zone. \nPlease register in advance via the link provided in your chat found under news & announcements. Please send a chat to a member of the care team if you cannot locate your link.
URL:https://newbiologyclinic.com/events/qa-with-pat-daly-4/
LOCATION:Zoom (link in dashboard)
END:VEVENT
BEGIN:VEVENT
DTSTART;TZID=America/Toronto:20250220T180000
DTEND;TZID=America/Toronto:20250220T185500
DTSTAMP:20260425T230038
CREATED:20250123T143821Z
LAST-MODIFIED:20250123T143821Z
UID:10000184-1740074400-1740077700@newbiologyclinic.com
SUMMARY:Beginner Movement Session with Pat Daly
DESCRIPTION:Beginner movement session with our Primal Movement Coach\, Pat Daly. \nLength: 55 Minutes \n-Please note session times are reflected in the eastern time zone. \n  \nPlease register for this session through your member dashboard under Appointments\, then select Pat Daly. \n 
URL:https://newbiologyclinic.com/events/beginner-movement-session-with-pat-daly-25/
LOCATION:Zoom (link in dashboard)
END:VEVENT
BEGIN:VEVENT
DTSTART;TZID=America/Toronto:20250220T170000
DTEND;TZID=America/Toronto:20250220T175500
DTSTAMP:20260425T230038
CREATED:20250123T144410Z
LAST-MODIFIED:20250123T144410Z
UID:10000187-1740070800-1740074100@newbiologyclinic.com
SUMMARY:Advanced Movement Session with Pat Daly
DESCRIPTION:Advanced movement session with our Primal Movement Coach\, Pat Daly. \nLength: 55 Minutes \n-Please note session times are reflected in the eastern time zone. \n  \nPlease register for this session through your member dashboard under Appointments\, then select Pat Daly.
URL:https://newbiologyclinic.com/events/advanced-movement-session-with-pat-daly-28/
LOCATION:Zoom (link in dashboard)
END:VEVENT
BEGIN:VEVENT
DTSTART;TZID=America/Toronto:20250213T180000
DTEND;TZID=America/Toronto:20250213T185500
DTSTAMP:20260425T230038
CREATED:20250123T143716Z
LAST-MODIFIED:20250123T143716Z
UID:10000183-1739469600-1739472900@newbiologyclinic.com
SUMMARY:Beginner Movement Session with Pat Daly
DESCRIPTION:Beginner movement session with our Primal Movement Coach\, Pat Daly. \nLength: 55 Minutes \n-Please note session times are reflected in the eastern time zone. \n  \nPlease register for this session through your member dashboard under Appointments\, then select Pat Daly. \n 
URL:https://newbiologyclinic.com/events/beginner-movement-session-with-pat-daly-24/
LOCATION:Zoom (link in dashboard)
END:VEVENT
BEGIN:VEVENT
DTSTART;TZID=America/Toronto:20250213T170000
DTEND;TZID=America/Toronto:20250213T175500
DTSTAMP:20260425T230038
CREATED:20250123T144227Z
LAST-MODIFIED:20250123T144227Z
UID:10000186-1739466000-1739469300@newbiologyclinic.com
SUMMARY:Advanced Movement Session with Pat Daly
DESCRIPTION:Advanced movement session with our Primal Movement Coach\, Pat Daly. \nLength: 55 Minutes \n-Please note session times are reflected in the eastern time zone. \n  \nPlease register for this session through your member dashboard under Appointments\, then select Pat Daly.
URL:https://newbiologyclinic.com/events/advanced-movement-session-with-pat-daly-27/
LOCATION:Zoom (link in dashboard)
END:VEVENT
END:VCALENDAR