BEGIN:VCALENDAR
VERSION:2.0
PRODID:-//New Biology Clinic - ECPv6.15.20//NONSGML v1.0//EN
CALSCALE:GREGORIAN
METHOD:PUBLISH
X-ORIGINAL-URL:https://newbiologyclinic.com
X-WR-CALDESC:Events for New Biology Clinic
REFRESH-INTERVAL;VALUE=DURATION:PT1H
X-Robots-Tag:noindex
X-PUBLISHED-TTL:PT1H
BEGIN:VTIMEZONE
TZID:America/Toronto
BEGIN:DAYLIGHT
TZOFFSETFROM:-0500
TZOFFSETTO:-0400
TZNAME:EDT
DTSTART:20240310T070000
END:DAYLIGHT
BEGIN:STANDARD
TZOFFSETFROM:-0400
TZOFFSETTO:-0500
TZNAME:EST
DTSTART:20241103T060000
END:STANDARD
BEGIN:DAYLIGHT
TZOFFSETFROM:-0500
TZOFFSETTO:-0400
TZNAME:EDT
DTSTART:20250309T070000
END:DAYLIGHT
BEGIN:STANDARD
TZOFFSETFROM:-0400
TZOFFSETTO:-0500
TZNAME:EST
DTSTART:20251102T060000
END:STANDARD
BEGIN:DAYLIGHT
TZOFFSETFROM:-0500
TZOFFSETTO:-0400
TZNAME:EDT
DTSTART:20260308T070000
END:DAYLIGHT
BEGIN:STANDARD
TZOFFSETFROM:-0400
TZOFFSETTO:-0500
TZNAME:EST
DTSTART:20261101T060000
END:STANDARD
BEGIN:DAYLIGHT
TZOFFSETFROM:-0500
TZOFFSETTO:-0400
TZNAME:EDT
DTSTART:20270314T070000
END:DAYLIGHT
BEGIN:STANDARD
TZOFFSETFROM:-0400
TZOFFSETTO:-0500
TZNAME:EST
DTSTART:20271107T060000
END:STANDARD
END:VTIMEZONE
BEGIN:VEVENT
DTSTART;TZID=America/Toronto:20260422T150000
DTEND;TZID=America/Toronto:20260422T160000
DTSTAMP:20260425T125607
CREATED:20260331T011252Z
LAST-MODIFIED:20260331T011252Z
UID:10000528-1776870000-1776873600@newbiologyclinic.com
SUMMARY:Ron Carlson\, Dental Specialist: If You Have Tooth Pain
DESCRIPTION:Ron Carlson\, Dental Specialist: If You Have Tooth Pain \nLength: 1 hour \n-Please note session times are reflected in the Eastern time zone. \n  \nPlease register for this session through your member dashboard under appointments\, then select Ron Carlson.
URL:https://newbiologyclinic.com/events/ron-carlson-dental-specialist-if-you-have-tooth-pain/
LOCATION:Zoom (link in dashboard)
END:VEVENT
BEGIN:VEVENT
DTSTART;TZID=America/Toronto:20260318T150000
DTEND;TZID=America/Toronto:20260318T160000
DTSTAMP:20260425T125607
CREATED:20260228T161625Z
LAST-MODIFIED:20260228T161625Z
UID:10000498-1773846000-1773849600@newbiologyclinic.com
SUMMARY:Ron Carlson\, Dental Specialist: "Specialists in Dentistry"
DESCRIPTION:Ron Carlson\, Dental Specialist: “Specialists in Dentistry” \nLength: 1 hour \n-Please note session times are reflected in the Eastern time zone. \n  \nPlease register for this session through your member dashboard under appointments\, then select Ron Carlson.
URL:https://newbiologyclinic.com/events/ron-carlson-dental-specialist-specialists-in-dentistry/
LOCATION:Zoom (link in dashboard)
END:VEVENT
BEGIN:VEVENT
DTSTART;TZID=America/Toronto:20260218T140000
DTEND;TZID=America/Toronto:20260218T150000
DTSTAMP:20260425T125607
CREATED:20260126T230832Z
LAST-MODIFIED:20260126T230832Z
UID:10000479-1771423200-1771426800@newbiologyclinic.com
SUMMARY:Ron Carlson\, Dental Specialist: Community Fluoridation
DESCRIPTION:Ron Carlson\, Dental Specialist: Community Fluoridation \nLength: 1 hour \n-Please note session times are reflected in the Eastern time zone. \n  \nPlease register for this session through your member dashboard under appointments\, then select Ron Carlson.
URL:https://newbiologyclinic.com/events/ron-carlson-dental-specialist-community-fluoridation/
LOCATION:Zoom (link in dashboard)
END:VEVENT
BEGIN:VEVENT
DTSTART;TZID=America/Toronto:20260114T140000
DTEND;TZID=America/Toronto:20260114T150000
DTSTAMP:20260425T125607
CREATED:20251223T213341Z
LAST-MODIFIED:20251223T213341Z
UID:10000451-1768399200-1768402800@newbiologyclinic.com
SUMMARY:Ron Carlson\, Dental Specialist: Metal Amalgam Fillings
DESCRIPTION:Ron Carlson\, Dental Specialist: Metal Amalgam Fillings \nLength: 1 hour \n-Please note session times are reflected in the Eastern time zone. \n  \nPlease register for this session through your member dashboard under appointments\, then select Ron Carlson.
URL:https://newbiologyclinic.com/events/ron-carlson-dental-specialist-metal-amalgam-fillings/
LOCATION:Zoom (link in dashboard)
END:VEVENT
BEGIN:VEVENT
DTSTART;TZID=America/Toronto:20251231T140000
DTEND;TZID=America/Toronto:20251231T150000
DTSTAMP:20260425T125607
CREATED:20251121T210231Z
LAST-MODIFIED:20251121T210231Z
UID:10000420-1767189600-1767193200@newbiologyclinic.com
SUMMARY:Ron Carlson\, Dental Specialist: Selecting a Good Dentist
DESCRIPTION:Ron Carlson\, Dental Specialist: Selecting a Good Dentist \nLength: 1 hour \n-Please note session times are reflected in the Eastern time zone. \n  \nPlease register for this session through your member dashboard under appointments\, then select Ron Carlson.
URL:https://newbiologyclinic.com/events/ron-carlson-dental-specialist-selecting-a-good-dentist/
LOCATION:Zoom (link in dashboard)
END:VEVENT
BEGIN:VEVENT
DTSTART;TZID=America/Toronto:20251119T160000
DTEND;TZID=America/Toronto:20251119T170000
DTSTAMP:20260425T125607
CREATED:20251028T224120Z
LAST-MODIFIED:20251028T224120Z
UID:10000395-1763568000-1763571600@newbiologyclinic.com
SUMMARY:Ron Carlson\, Dental Specialist: Dental Implant Folly: Alternatives
DESCRIPTION:Ron Carlson\, Dental Specialist: Dental Implant Folly: Alternatives \nLength: 1 hour \n-Please note session times are reflected in the Eastern time zone. \n  \nPlease register for this session through your member dashboard under appointments\, then select Ron Carlson.
URL:https://newbiologyclinic.com/events/ron-carlson-dental-specialist-dental-implant-folly-alternatives/
LOCATION:Zoom (link in dashboard)
END:VEVENT
BEGIN:VEVENT
DTSTART;TZID=America/Toronto:20251022T160000
DTEND;TZID=America/Toronto:20251022T170000
DTSTAMP:20260425T125607
CREATED:20250924T230044Z
LAST-MODIFIED:20250924T230044Z
UID:10000372-1761148800-1761152400@newbiologyclinic.com
SUMMARY:Ron Carlson\, Dental Specialist: Gnashing of Teeth
DESCRIPTION:Ron Carlson\, Dental Specialist: Gnashing of Teeth \nLength: 1 hour \n-Please note session times are reflected in the Eastern time zone. \n  \nPlease register for this session through your member dashboard under appointments\, then select Ron Carlson.
URL:https://newbiologyclinic.com/events/ron-carlson-dental-specialist-gnashing-of-teeth/
LOCATION:Zoom (link in dashboard)
END:VEVENT
BEGIN:VEVENT
DTSTART;TZID=America/Toronto:20250924T160000
DTEND;TZID=America/Toronto:20250924T170000
DTSTAMP:20260425T125607
CREATED:20250826T181312Z
LAST-MODIFIED:20250826T195929Z
UID:10000329-1758729600-1758733200@newbiologyclinic.com
SUMMARY:NEW!! Ron Carlson: Dentists' Disease
DESCRIPTION:NEW!!   Ron Carlson: Dentists’ Disease \nLength: 1 hour \n-Please note session times are reflected in the Eastern time zone. \n  \nPlease register for this session through your member dashboard under appointments\, then select Ron Carlson.
URL:https://newbiologyclinic.com/events/new-ron-carlson-dentists-disease/
LOCATION:Zoom (link in dashboard)
END:VEVENT
END:VCALENDAR