BEGIN:VCALENDAR
VERSION:2.0
PRODID:-//New Biology Clinic - ECPv6.15.20//NONSGML v1.0//EN
CALSCALE:GREGORIAN
METHOD:PUBLISH
X-ORIGINAL-URL:https://newbiologyclinic.com
X-WR-CALDESC:Events for New Biology Clinic
REFRESH-INTERVAL;VALUE=DURATION:PT1H
X-Robots-Tag:noindex
X-PUBLISHED-TTL:PT1H
BEGIN:VTIMEZONE
TZID:America/Toronto
BEGIN:DAYLIGHT
TZOFFSETFROM:-0500
TZOFFSETTO:-0400
TZNAME:EDT
DTSTART:20220313T070000
END:DAYLIGHT
BEGIN:STANDARD
TZOFFSETFROM:-0400
TZOFFSETTO:-0500
TZNAME:EST
DTSTART:20221106T060000
END:STANDARD
BEGIN:DAYLIGHT
TZOFFSETFROM:-0500
TZOFFSETTO:-0400
TZNAME:EDT
DTSTART:20230312T070000
END:DAYLIGHT
BEGIN:STANDARD
TZOFFSETFROM:-0400
TZOFFSETTO:-0500
TZNAME:EST
DTSTART:20231105T060000
END:STANDARD
BEGIN:DAYLIGHT
TZOFFSETFROM:-0500
TZOFFSETTO:-0400
TZNAME:EDT
DTSTART:20240310T070000
END:DAYLIGHT
BEGIN:STANDARD
TZOFFSETFROM:-0400
TZOFFSETTO:-0500
TZNAME:EST
DTSTART:20241103T060000
END:STANDARD
BEGIN:DAYLIGHT
TZOFFSETFROM:-0500
TZOFFSETTO:-0400
TZNAME:EDT
DTSTART:20250309T070000
END:DAYLIGHT
BEGIN:STANDARD
TZOFFSETFROM:-0400
TZOFFSETTO:-0500
TZNAME:EST
DTSTART:20251102T060000
END:STANDARD
BEGIN:DAYLIGHT
TZOFFSETFROM:-0500
TZOFFSETTO:-0400
TZNAME:EDT
DTSTART:20260308T070000
END:DAYLIGHT
BEGIN:STANDARD
TZOFFSETFROM:-0400
TZOFFSETTO:-0500
TZNAME:EST
DTSTART:20261101T060000
END:STANDARD
BEGIN:DAYLIGHT
TZOFFSETFROM:-0500
TZOFFSETTO:-0400
TZNAME:EDT
DTSTART:20270314T070000
END:DAYLIGHT
BEGIN:STANDARD
TZOFFSETFROM:-0400
TZOFFSETTO:-0500
TZNAME:EST
DTSTART:20271107T060000
END:STANDARD
END:VTIMEZONE
BEGIN:VEVENT
DTSTART;TZID=America/Toronto:20260421T140000
DTEND;TZID=America/Toronto:20260421T150000
DTSTAMP:20260425T132824
CREATED:20260331T002503Z
LAST-MODIFIED:20260331T002503Z
UID:10000512-1776780000-1776783600@newbiologyclinic.com
SUMMARY:Group EFT (Emotional Freedom Technique - Tapping) with Stacy Claxton
DESCRIPTION:Join Stacy Claxton for an EFT (Emotional Freedom Technique) Tapping Session. \nEmotional Freedom Techniques (EFT)\, or tapping\, is one of the simplest and most effective strategies for shifting the body to a place of safety\, healing\, and connection. Come experience the physical\, mental\, and emotional benefits from simply tapping your own fingertips on specific points of your body under the leadership of our expert and compassionate EFT facilitator\, Stacy Claxton. \nLength: 1 hour \n-Please note session times are reflected in the eastern time zone. \n  \nPlease register for this session through your member dashboard under appointments\, then select Stacy Claxton.
URL:https://newbiologyclinic.com/events/group-eft-emotional-freedom-technique-tapping-with-stacy-claxton-14/
LOCATION:Zoom (link in dashboard)
END:VEVENT
BEGIN:VEVENT
DTSTART;TZID=America/Toronto:20260310T140000
DTEND;TZID=America/Toronto:20260310T150000
DTSTAMP:20260425T132824
CREATED:20260304T233013Z
LAST-MODIFIED:20260304T233013Z
UID:10000509-1773151200-1773154800@newbiologyclinic.com
SUMMARY:Group EFT (Emotional Freedom Technique - Tapping) with Stacy Claxton
DESCRIPTION:Join Stacy Claxton for an EFT (Emotional Freedom Technique) Tapping Session. \nLength: 1 hour \n-Please note session times are reflected in the eastern time zone. \n  \nPlease register for this session through your member dashboard under appointments\, then select Stacy Claxton.
URL:https://newbiologyclinic.com/events/group-eft-emotional-freedom-technique-tapping-with-stacy-claxton-13/
LOCATION:Zoom (link in dashboard)
END:VEVENT
BEGIN:VEVENT
DTSTART;TZID=America/Toronto:20260202T120000
DTEND;TZID=America/Toronto:20260202T130000
DTSTAMP:20260425T132824
CREATED:20260120T174823Z
LAST-MODIFIED:20260120T174823Z
UID:10000462-1770033600-1770037200@newbiologyclinic.com
SUMMARY:Group EFT (Emotional Freedom Technique - Tapping) with Stacy Claxton
DESCRIPTION:Join Stacy Claxton for an EFT (Emotional Freedom Technique) Tapping Session. \nLength: 1 hour \n-Please note session times are reflected in the eastern time zone. \n  \nPlease register for this session through your member dashboard under appointments\, then select Stacy Claxton.
URL:https://newbiologyclinic.com/events/group-eft-emotional-freedom-technique-tapping-with-stacy-claxton-12/
LOCATION:Zoom (link in dashboard)
END:VEVENT
BEGIN:VEVENT
DTSTART;TZID=America/Toronto:20260113T120000
DTEND;TZID=America/Toronto:20260113T130000
DTSTAMP:20260425T132824
CREATED:20251217T153554Z
LAST-MODIFIED:20251217T153554Z
UID:10000433-1768305600-1768309200@newbiologyclinic.com
SUMMARY:Group EFT (Emotional Freedom Technique - Tapping) with Stacy Claxton
DESCRIPTION:Join Stacy Claxton for an EFT (Emotional Freedom Technique) Tapping Session. \nLength: 1 hour \n-Please note session times are reflected in the eastern time zone. \n  \nPlease register for this session through your member dashboard under appointments\, then select Stacy Claxton.
URL:https://newbiologyclinic.com/events/group-eft-emotional-freedom-technique-tapping-with-stacy-claxton-11/
LOCATION:Zoom (link in dashboard)
END:VEVENT
BEGIN:VEVENT
DTSTART;TZID=America/Toronto:20251209T120000
DTEND;TZID=America/Toronto:20251209T130000
DTSTAMP:20260425T132824
CREATED:20251120T221922Z
LAST-MODIFIED:20251120T221922Z
UID:10000415-1765281600-1765285200@newbiologyclinic.com
SUMMARY:Group EFT (Emotional Freedom Technique - Tapping) with Stacy Claxton
DESCRIPTION:Join Stacy Claxton for an EFT (Emotional Freedom Technique) Tapping Session. \nLength: 1 hour \n-Please note session times are reflected in the eastern time zone. \n  \nPlease register for this session through your member dashboard under appointments\, then select Stacy Claxton.
URL:https://newbiologyclinic.com/events/group-eft-emotional-freedom-technique-tapping-with-stacy-claxton-10/
LOCATION:Zoom (link in dashboard)
END:VEVENT
BEGIN:VEVENT
DTSTART;TZID=America/Toronto:20251118T120000
DTEND;TZID=America/Toronto:20251118T130000
DTSTAMP:20260425T132824
CREATED:20251028T220455Z
LAST-MODIFIED:20251028T220455Z
UID:10000381-1763467200-1763470800@newbiologyclinic.com
SUMMARY:Group EFT (Emotional Freedom Technique - Tapping) with Stacy Claxton
DESCRIPTION:Join Stacy Claxton for an EFT (Emotional Freedom Technique) Tapping Session. \nLength: 1 hour \n-Please note session times are reflected in the eastern time zone. \n  \nPlease register for this session through your member dashboard under appointments\, then select Stacy Claxton.
URL:https://newbiologyclinic.com/events/group-eft-emotional-freedom-technique-tapping-with-stacy-claxton-9/
LOCATION:Zoom (link in dashboard)
END:VEVENT
BEGIN:VEVENT
DTSTART;TZID=America/Toronto:20251007T120000
DTEND;TZID=America/Toronto:20251007T130000
DTSTAMP:20260425T132824
CREATED:20250924T223045Z
LAST-MODIFIED:20250924T223045Z
UID:10000358-1759838400-1759842000@newbiologyclinic.com
SUMMARY:Group EFT (Emotional Freedom Technique - Tapping) with Stacy Claxton
DESCRIPTION:Join Stacy Claxton for an EFT (Emotional Freedom Technique) Tapping Session. \nLength: 1 hour \n-Please note session times are reflected in the eastern time zone. \n  \nPlease register for this session through your member dashboard under appointments\, then select Stacy Claxton.
URL:https://newbiologyclinic.com/events/group-eft-emotional-freedom-technique-tapping-with-stacy-claxton-8/
LOCATION:Zoom (link in dashboard)
END:VEVENT
BEGIN:VEVENT
DTSTART;TZID=America/Toronto:20250902T120000
DTEND;TZID=America/Toronto:20250902T130000
DTSTAMP:20260425T132824
CREATED:20250826T184054Z
LAST-MODIFIED:20250826T184054Z
UID:10000336-1756814400-1756818000@newbiologyclinic.com
SUMMARY:Group EFT (Emotional Freedom Technique - Tapping) with Stacy Claxton
DESCRIPTION:Join Stacy Claxton for an EFT (Emotional Freedom Technique) Tapping Session. \nLength: 1 hour \n-Please note session times are reflected in the eastern time zone. \n  \nPlease register for this session through your member dashboard under appointments\, then select Stacy Claxton.
URL:https://newbiologyclinic.com/events/group-eft-emotional-freedom-technique-tapping-with-stacy-claxton-7/
LOCATION:Zoom (link in dashboard)
END:VEVENT
BEGIN:VEVENT
DTSTART;TZID=America/Toronto:20250804T120000
DTEND;TZID=America/Toronto:20250804T130000
DTSTAMP:20260425T132824
CREATED:20250722T212758Z
LAST-MODIFIED:20250722T212758Z
UID:10000303-1754308800-1754312400@newbiologyclinic.com
SUMMARY:Group EFT (Emotional Freedom Technique - Tapping) with Stacy Claxton
DESCRIPTION:Join Stacy Claxton for an EFT (Emotional Freedom Technique) Tapping Session. \nLength: 1 hour \n-Please note session times are reflected in the eastern time zone. \n  \nPlease register for this session through your member dashboard under appointments\, then select Stacy Claxton.
URL:https://newbiologyclinic.com/events/group-eft-emotional-freedom-technique-tapping-with-stacy-claxton-6/
LOCATION:Zoom (link in dashboard)
END:VEVENT
BEGIN:VEVENT
DTSTART;TZID=America/Toronto:20250708T120000
DTEND;TZID=America/Toronto:20250708T130000
DTSTAMP:20260425T132824
CREATED:20250627T180931Z
LAST-MODIFIED:20250627T180931Z
UID:10000278-1751976000-1751979600@newbiologyclinic.com
SUMMARY:Group EFT (Emotional Freedom Technique - Tapping) with Stacy Claxton
DESCRIPTION:Join Stacy Claxton for an EFT (Emotional Freedom Technique) Tapping Session. \nLength: 1 hour \n-Please note session times are reflected in the eastern time zone. \n  \nPlease register for this session through your member dashboard under appointments\, then select Stacy Claxton.
URL:https://newbiologyclinic.com/events/group-eft-emotional-freedom-technique-tapping-with-stacy-claxton-5/
LOCATION:Zoom (link in dashboard)
END:VEVENT
BEGIN:VEVENT
DTSTART;TZID=America/Toronto:20250609T120000
DTEND;TZID=America/Toronto:20250609T130000
DTSTAMP:20260425T132824
CREATED:20250527T170035Z
LAST-MODIFIED:20250527T170035Z
UID:10000257-1749470400-1749474000@newbiologyclinic.com
SUMMARY:Group EFT (Emotional Freedom Technique - Tapping) with Stacy Claxton
DESCRIPTION:Join Stacy Claxton for an EFT (Emotional Freedom Technique) Tapping Session. \nLength: 1 hour \n-Please note session times are reflected in the eastern time zone. \n  \nPlease register for this session through your member dashboard under appointments\, then select Stacy Claxton.
URL:https://newbiologyclinic.com/events/group-eft-emotional-freedom-technique-tapping-with-stacy-claxton-4/
LOCATION:Zoom (link in dashboard)
END:VEVENT
BEGIN:VEVENT
DTSTART;TZID=America/Toronto:20250520T120000
DTEND;TZID=America/Toronto:20250520T130000
DTSTAMP:20260425T132824
CREATED:20250425T225550Z
LAST-MODIFIED:20250425T225550Z
UID:10000237-1747742400-1747746000@newbiologyclinic.com
SUMMARY:Group EFT (Emotional Freedom Technique - Tapping) with Stacy Claxton
DESCRIPTION:Join Stacy Claxton for an EFT (Emotional Freedom Technique) Tapping Session. \nLength: 1 hour \n-Please note session times are reflected in the eastern time zone. \n  \nPlease register for this session through your member dashboard under appointments\, then select Stacy Claxton.
URL:https://newbiologyclinic.com/events/group-eft-emotional-freedom-technique-tapping-with-stacy-claxton-3/
LOCATION:Zoom (link in dashboard)
END:VEVENT
BEGIN:VEVENT
DTSTART;TZID=America/Toronto:20250415T120000
DTEND;TZID=America/Toronto:20250415T130000
DTSTAMP:20260425T132824
CREATED:20250326T195655Z
LAST-MODIFIED:20250326T195655Z
UID:10000217-1744718400-1744722000@newbiologyclinic.com
SUMMARY:Group EFT (Emotional Freedom Technique - Tapping) with Stacy Claxton
DESCRIPTION:Join Stacy Claxton for an EFT (Emotional Freedom Technique) Tapping Session. \nLength: 1 hour \n-Please note session times are reflected in the eastern time zone. \n  \nPlease register for this session through your member dashboard under appointments\, then select Stacy Claxton.
URL:https://newbiologyclinic.com/events/group-eft-emotional-freedom-technique-tapping-with-stacy-claxton-2/
LOCATION:Zoom (link in dashboard)
END:VEVENT
BEGIN:VEVENT
DTSTART;TZID=America/Toronto:20250206T140000
DTEND;TZID=America/Toronto:20250206T150000
DTSTAMP:20260425T132824
CREATED:20250123T141834Z
LAST-MODIFIED:20250123T141834Z
UID:10000176-1738850400-1738854000@newbiologyclinic.com
SUMMARY:Group EFT (Emotional Freedom Technique - Tapping) with Stacy Claxton
DESCRIPTION:Join Stacy Claxton for an EFT (Emotional Freedom Technique) Tapping Session. \nLength: 1 hour \n-Please note session times are reflected in the eastern time zone. \n  \nPlease register for this session through your member dashboard under appointments\, then select Stacy Claxton.
URL:https://newbiologyclinic.com/events/group-eft-emotional-freedom-technique-tapping-with-stacy-claxton/
LOCATION:Zoom (link in dashboard)
END:VEVENT
BEGIN:VEVENT
DTSTART;TZID=America/Toronto:20250109T140000
DTEND;TZID=America/Toronto:20250109T150000
DTSTAMP:20260425T132824
CREATED:20241224T150043Z
LAST-MODIFIED:20241224T150043Z
UID:10000160-1736431200-1736434800@newbiologyclinic.com
SUMMARY:Group EFT (Tapping) with Stacy Claxton
DESCRIPTION:Join Stacy Claxton for an EFT (Emotional Freedom Technique) Tapping Session. \nLength: 1 hour \n-Please note session times are reflected in the eastern time zone. \n  \nPlease register for this session through your member dashboard under appointments\, then select Stacy Claxton.
URL:https://newbiologyclinic.com/events/group-eft-tapping-with-stacy-claxton/
LOCATION:Zoom (link in dashboard)
END:VEVENT
BEGIN:VEVENT
DTSTART;TZID=America/Toronto:20241212T140000
DTEND;TZID=America/Toronto:20241212T150000
DTSTAMP:20260425T132824
CREATED:20241120T220035Z
LAST-MODIFIED:20241120T220035Z
UID:10000138-1734012000-1734015600@newbiologyclinic.com
SUMMARY:Group EFT (Tapping) with Stacy
DESCRIPTION:Join Stacy Claxton for an EFT (Emotional Freedom Technique) Tapping Session. \nLength: 1 hour \n-Please note session times are reflected in the eastern time zone. \n  \nPlease register for this session through your member dashboard under appointments\, then select Stacy Claxton.
URL:https://newbiologyclinic.com/events/group-eft-tapping-with-stacy-4/
LOCATION:Zoom (link in dashboard)
END:VEVENT
BEGIN:VEVENT
DTSTART;TZID=America/Toronto:20241114T110000
DTEND;TZID=America/Toronto:20241114T120000
DTSTAMP:20260425T132824
CREATED:20241021T214919Z
LAST-MODIFIED:20241021T214919Z
UID:10000115-1731582000-1731585600@newbiologyclinic.com
SUMMARY:Group EFT (Tapping) with Stacy
DESCRIPTION:Join Stacy Claxton for an EFT Tapping Session. \nLength: 1 hour \n-Please note session times are reflected in the eastern time zone. \n  \nPlease register for this session through your member dashboard under appointments\, then select Stacy Claxton.
URL:https://newbiologyclinic.com/events/group-eft-tapping-with-stacy-3/
LOCATION:Zoom (link in dashboard)
END:VEVENT
BEGIN:VEVENT
DTSTART;TZID=America/Toronto:20241008T120000
DTEND;TZID=America/Toronto:20241008T130000
DTSTAMP:20260425T132824
CREATED:20240923T221405Z
LAST-MODIFIED:20240923T221405Z
UID:10000096-1728388800-1728392400@newbiologyclinic.com
SUMMARY:Group EFT (Tapping) with Stacy
DESCRIPTION:Join Stacy Claxton for an EFT Tapping Session. \nLength: 1 hour \n-Please note session times are reflected in the eastern time zone. \n  \nPlease register for this session through your member dashboard under appointments\, then select Stacy Claxton.
URL:https://newbiologyclinic.com/events/group-eft-tapping-with-stacy-2/
LOCATION:Zoom (link in dashboard)
END:VEVENT
BEGIN:VEVENT
DTSTART;TZID=America/Toronto:20240924T160000
DTEND;TZID=America/Toronto:20240924T165500
DTSTAMP:20260425T132824
CREATED:20240816T030234Z
LAST-MODIFIED:20240905T211138Z
UID:10000073-1727193600-1727196900@newbiologyclinic.com
SUMMARY:Group EFT (Tapping) with Stacy
DESCRIPTION:Join Stacy Claxton for an EFT Tapping Session. \nLength: 1 hour \n-Please note session times are reflected in the eastern time zone. \n  \nPlease register for this session through your member dashboard under appointments\, then select Stacy Claxton.
URL:https://newbiologyclinic.com/events/group-eft-tapping-with-stacy/
LOCATION:Zoom (link in dashboard)
END:VEVENT
BEGIN:VEVENT
DTSTART;TZID=America/Toronto:20240211T183000
DTEND;TZID=America/Toronto:20240211T192500
DTSTAMP:20260425T132824
CREATED:20240108T193526Z
LAST-MODIFIED:20240111T073937Z
UID:10000042-1707676200-1707679500@newbiologyclinic.com
SUMMARY:Group EFT (Tapping) Session
DESCRIPTION:Join Stacy Claxton for an EFT Tapping Session. \nLength: 1 hour \nPlease register for this session through your member dashboard under appointments\, then select Stacy Claxton.
URL:https://newbiologyclinic.com/events/group-eft-tapping-session-4/
LOCATION:Zoom (link in dashboard)
END:VEVENT
BEGIN:VEVENT
DTSTART;TZID=America/Toronto:20240205T110000
DTEND;TZID=America/Toronto:20240205T115500
DTSTAMP:20260425T132824
CREATED:20240108T193356Z
LAST-MODIFIED:20240111T073919Z
UID:10000041-1707130800-1707134100@newbiologyclinic.com
SUMMARY:Group EFT (Tapping) Session
DESCRIPTION:Join Stacy Claxton for an EFT Tapping Session. \nLength: 1 hour \nPlease register for this session through your member dashboard under appointments\, then select Stacy Claxton.
URL:https://newbiologyclinic.com/events/group-eft-tapping-session-3/
LOCATION:Zoom (link in dashboard)
END:VEVENT
BEGIN:VEVENT
DTSTART;TZID=America/Toronto:20240127T170000
DTEND;TZID=America/Toronto:20240127T175500
DTSTAMP:20260425T132824
CREATED:20240108T193226Z
LAST-MODIFIED:20240111T073848Z
UID:10000040-1706374800-1706378100@newbiologyclinic.com
SUMMARY:Group EFT (Tapping) Session
DESCRIPTION:Join Stacy Claxton for an EFT Tapping Session. \nLength: 1 hour \nPlease register for this session through your member dashboard under appointments\, then select Stacy Claxton.
URL:https://newbiologyclinic.com/events/group-eft-tapping-session-2/
LOCATION:Zoom (link in dashboard)
END:VEVENT
BEGIN:VEVENT
DTSTART;TZID=America/Toronto:20240109T170000
DTEND;TZID=America/Toronto:20240109T175500
DTSTAMP:20260425T132824
CREATED:20240108T193116Z
LAST-MODIFIED:20240108T193116Z
UID:10000039-1704819600-1704822900@newbiologyclinic.com
SUMMARY:Group EFT (Tapping) Session
DESCRIPTION:Join Stacy Claxton for an EFT Tapping Session. \nLength: 1 hour \nZoom meeting link provided in member dashboard.
URL:https://newbiologyclinic.com/events/group-eft-tapping-session/
LOCATION:Zoom (link in dashboard)
END:VEVENT
BEGIN:VEVENT
DTSTART;TZID=America/Toronto:20231227T120000
DTEND;TZID=America/Toronto:20231227T130000
DTSTAMP:20260425T132824
CREATED:20231206T205510Z
LAST-MODIFIED:20231227T215123Z
UID:10000017-1703678400-1703682000@newbiologyclinic.com
SUMMARY:EFT Tapping Session
DESCRIPTION:Join Stacy Claxton for an EFT Tapping Session. \nLength: 1 hour \nZoom meeting link provided in member dashboard.
URL:https://newbiologyclinic.com/events/eft-tapping-session/
LOCATION:Zoom (link in dashboard)
END:VEVENT
END:VCALENDAR